BEGIN:VCALENDAR
VERSION:2.0
PRODID:-//Trinity Lutheran Church, School &amp; Childcare of Freistadt - ECPv6.15.20//NONSGML v1.0//EN
CALSCALE:GREGORIAN
METHOD:PUBLISH
X-WR-CALNAME:Trinity Lutheran Church, School &amp; Childcare of Freistadt
X-ORIGINAL-URL:https://trinitymequon.org
X-WR-CALDESC:Events for Trinity Lutheran Church, School &amp; Childcare of Freistadt
REFRESH-INTERVAL;VALUE=DURATION:PT1H
X-Robots-Tag:noindex
X-PUBLISHED-TTL:PT1H
BEGIN:VTIMEZONE
TZID:America/Chicago
BEGIN:DAYLIGHT
TZOFFSETFROM:-0600
TZOFFSETTO:-0500
TZNAME:CDT
DTSTART:20240310T080000
END:DAYLIGHT
BEGIN:STANDARD
TZOFFSETFROM:-0500
TZOFFSETTO:-0600
TZNAME:CST
DTSTART:20241103T070000
END:STANDARD
BEGIN:DAYLIGHT
TZOFFSETFROM:-0600
TZOFFSETTO:-0500
TZNAME:CDT
DTSTART:20250309T080000
END:DAYLIGHT
BEGIN:STANDARD
TZOFFSETFROM:-0500
TZOFFSETTO:-0600
TZNAME:CST
DTSTART:20251102T070000
END:STANDARD
BEGIN:DAYLIGHT
TZOFFSETFROM:-0600
TZOFFSETTO:-0500
TZNAME:CDT
DTSTART:20260308T080000
END:DAYLIGHT
BEGIN:STANDARD
TZOFFSETFROM:-0500
TZOFFSETTO:-0600
TZNAME:CST
DTSTART:20261101T070000
END:STANDARD
END:VTIMEZONE
BEGIN:VEVENT
DTSTART;TZID=America/Chicago:20251221T080000
DTEND;TZID=America/Chicago:20251221T090000
DTSTAMP:20260425T081225
CREATED:20240711T185223Z
LAST-MODIFIED:20260410T204044Z
UID:10002985-1766304000-1766307600@trinitymequon.org
SUMMARY:Worship | Sunday 8:00 am
DESCRIPTION:
URL:https://trinitymequon.org/event/worship-sunday-800-am/2025-12-21/
LOCATION:Trinity Lutheran Freistadt\, 10729 West Freistadt Road\, Mequon\, WI\, 53097\, United States
CATEGORIES:Trinity Events,Worship
ATTACH;FMTTYPE=image/png:https://trinitymequon.org/wp-content/uploads/2025/06/Sanctuary-Worship-Feature-640-360.png
END:VEVENT
BEGIN:VEVENT
DTSTART;TZID=America/Chicago:20251221T104500
DTEND;TZID=America/Chicago:20251221T114500
DTSTAMP:20260425T081225
CREATED:20250605T150010Z
LAST-MODIFIED:20250605T183203Z
UID:10004442-1766313900-1766317500@trinitymequon.org
SUMMARY:Worship | Sunday 10:45 am
DESCRIPTION:
URL:https://trinitymequon.org/event/worship-sunday-1045-am/2025-12-21/
LOCATION:Trinity Lutheran Freistadt\, 10729 West Freistadt Road\, Mequon\, WI\, 53097\, United States
CATEGORIES:Trinity Events,Worship
ATTACH;FMTTYPE=image/png:https://trinitymequon.org/wp-content/uploads/2025/06/Sanctuary-Worship-Feature-640-360.png
END:VEVENT
BEGIN:VEVENT
DTSTART;TZID=America/Chicago:20251221T183000
DTEND;TZID=America/Chicago:20251221T200000
DTSTAMP:20260425T081225
CREATED:20250807T173948Z
LAST-MODIFIED:20251031T184242Z
UID:10005219-1766341800-1766347200@trinitymequon.org
SUMMARY:Youth Group Meeting
DESCRIPTION:
URL:https://trinitymequon.org/event/youth-group-meeting/2025-12-21/
LOCATION:Trinity Lutheran Freistadt\, 10729 West Freistadt Road\, Mequon\, WI\, 53097\, United States
CATEGORIES:Bible Study & Small Groups,Trinity Events,Youth
ATTACH;FMTTYPE=image/png:https://trinitymequon.org/wp-content/uploads/2025/08/Combined-Youth-Group640x360.png
END:VEVENT
BEGIN:VEVENT
DTSTART;VALUE=DATE:20251222
DTEND;VALUE=DATE:20251227
DTSTAMP:20260425T081225
CREATED:20250605T195505Z
LAST-MODIFIED:20250605T195505Z
UID:10004875-1766361600-1766793599@trinitymequon.org
SUMMARY:Campus Closed
DESCRIPTION:
URL:https://trinitymequon.org/event/campus-closed-3/2025-12-22/
LOCATION:Trinity Lutheran Freistadt\, 10729 West Freistadt Road\, Mequon\, WI\, 53097\, United States
CATEGORIES:Childcare Closed,No School,Trinity Events
ATTACH;FMTTYPE=image/png:https://trinitymequon.org/wp-content/uploads/2025/06/Campus-Closed-Feature-640x360-1.png
END:VEVENT
BEGIN:VEVENT
DTSTART;TZID=America/Chicago:20251223T073000
DTEND;TZID=America/Chicago:20251223T083000
DTSTAMP:20260425T081225
CREATED:20250605T180239Z
LAST-MODIFIED:20250905T205859Z
UID:10004614-1766475000-1766478600@trinitymequon.org
SUMMARY:Stuff They Didn't Teach You in Sunday School
DESCRIPTION:Ready to get behind the scenes on those great stories you heard as a kid but wondered about as an adult? Well\, wonder no longer. Fred has been leading this video-based study called “Stuff They Didn’t Teach Me in Sunday School” for several years now\, and the episodes just keep coming! Watch and listen as Bruce Wurdeman drives his way through Scripture and comes up with stuff even a Hebrew scholar would enjoy. \nEach week features a separate Bible story\, so even if you miss a week here and there\, you can jump in and out without feeling like you’re behind. Fred’s study is for both men and women and for all ages.
URL:https://trinitymequon.org/event/bible-study-2/2025-12-23/
LOCATION:Trinity Lutheran Freistadt\, 10729 West Freistadt Road\, Mequon\, WI\, 53097\, United States
CATEGORIES:Bible Study & Small Groups,Trinity Events
ATTACH;FMTTYPE=image/png:https://trinitymequon.org/wp-content/uploads/2025/06/Bible-Study-Feature-640x360-1.png
END:VEVENT
BEGIN:VEVENT
DTSTART;TZID=America/Chicago:20251224T160000
DTEND;TZID=America/Chicago:20251224T170000
DTSTAMP:20260425T081225
CREATED:20250605T195701Z
LAST-MODIFIED:20251210T193225Z
UID:10004877-1766592000-1766595600@trinitymequon.org
SUMMARY:Christmas Worship
DESCRIPTION:
URL:https://trinitymequon.org/event/christmas-worship/
LOCATION:Trinity Lutheran Freistadt\, 10729 West Freistadt Road\, Mequon\, WI\, 53097\, United States
CATEGORIES:Trinity Events,Worship
ATTACH;FMTTYPE=image/png:https://trinitymequon.org/wp-content/uploads/2025/06/Christmas-Worship-Feature-640-360.png
END:VEVENT
BEGIN:VEVENT
DTSTART;TZID=America/Chicago:20251224T190000
DTEND;TZID=America/Chicago:20251224T200000
DTSTAMP:20260425T081225
CREATED:20251210T184853Z
LAST-MODIFIED:20251210T193110Z
UID:10005505-1766602800-1766606400@trinitymequon.org
SUMMARY:Christmas Worship
DESCRIPTION:
URL:https://trinitymequon.org/event/christmas-worship-2/
LOCATION:Trinity Lutheran Freistadt\, 10729 West Freistadt Road\, Mequon\, WI\, 53097\, United States
CATEGORIES:Trinity Events,Worship
ATTACH;FMTTYPE=image/png:https://trinitymequon.org/wp-content/uploads/2025/06/Christmas-Worship-Feature-640-360.png
END:VEVENT
BEGIN:VEVENT
DTSTART;TZID=America/Chicago:20251224T210000
DTEND;TZID=America/Chicago:20251224T220000
DTSTAMP:20260425T081225
CREATED:20251210T185037Z
LAST-MODIFIED:20251210T193302Z
UID:10005506-1766610000-1766613600@trinitymequon.org
SUMMARY:Christmas Worship
DESCRIPTION:
URL:https://trinitymequon.org/event/christmas-worship-3/
LOCATION:Trinity Lutheran Freistadt\, 10729 West Freistadt Road\, Mequon\, WI\, 53097\, United States
CATEGORIES:Trinity Events,Worship
ATTACH;FMTTYPE=image/png:https://trinitymequon.org/wp-content/uploads/2025/06/Christmas-Worship-Feature-640-360.png
END:VEVENT
BEGIN:VEVENT
DTSTART;TZID=America/Chicago:20251225T093000
DTEND;TZID=America/Chicago:20251225T103000
DTSTAMP:20260425T081225
CREATED:20251210T185323Z
LAST-MODIFIED:20251210T193353Z
UID:10005507-1766655000-1766658600@trinitymequon.org
SUMMARY:Christmas Worship
DESCRIPTION:
URL:https://trinitymequon.org/event/christmas-worship-4/
LOCATION:Trinity Lutheran Freistadt\, 10729 West Freistadt Road\, Mequon\, WI\, 53097\, United States
CATEGORIES:Trinity Events,Worship
ATTACH;FMTTYPE=image/png:https://trinitymequon.org/wp-content/uploads/2025/06/Christmas-Worship-Feature-640-360.png
END:VEVENT
BEGIN:VEVENT
DTSTART;TZID=America/Chicago:20251227T170000
DTEND;TZID=America/Chicago:20251227T180000
DTSTAMP:20260425T081225
CREATED:20240711T184444Z
LAST-MODIFIED:20250605T212258Z
UID:10003200-1766854800-1766858400@trinitymequon.org
SUMMARY:Worship | Saturday 5:00 pm
DESCRIPTION:
URL:https://trinitymequon.org/event/worship-saturday-500-pm/2025-12-27/
LOCATION:Trinity Lutheran Freistadt\, 10729 West Freistadt Road\, Mequon\, WI\, 53097\, United States
CATEGORIES:Trinity Events,Worship
ATTACH;FMTTYPE=image/png:https://trinitymequon.org/wp-content/uploads/2025/06/Sanctuary-Worship-Feature-640-360.png
END:VEVENT
END:VCALENDAR