BEGIN:VCALENDAR
VERSION:2.0
PRODID:-//Trinity Lutheran Church, School &amp; Childcare of Freistadt - ECPv6.15.20//NONSGML v1.0//EN
CALSCALE:GREGORIAN
METHOD:PUBLISH
X-ORIGINAL-URL:https://trinitymequon.org
X-WR-CALDESC:Events for Trinity Lutheran Church, School &amp; Childcare of Freistadt
REFRESH-INTERVAL;VALUE=DURATION:PT1H
X-Robots-Tag:noindex
X-PUBLISHED-TTL:PT1H
BEGIN:VTIMEZONE
TZID:America/Chicago
BEGIN:DAYLIGHT
TZOFFSETFROM:-0600
TZOFFSETTO:-0500
TZNAME:CDT
DTSTART:20240310T080000
END:DAYLIGHT
BEGIN:STANDARD
TZOFFSETFROM:-0500
TZOFFSETTO:-0600
TZNAME:CST
DTSTART:20241103T070000
END:STANDARD
BEGIN:DAYLIGHT
TZOFFSETFROM:-0600
TZOFFSETTO:-0500
TZNAME:CDT
DTSTART:20250309T080000
END:DAYLIGHT
BEGIN:STANDARD
TZOFFSETFROM:-0500
TZOFFSETTO:-0600
TZNAME:CST
DTSTART:20251102T070000
END:STANDARD
BEGIN:DAYLIGHT
TZOFFSETFROM:-0600
TZOFFSETTO:-0500
TZNAME:CDT
DTSTART:20260308T080000
END:DAYLIGHT
BEGIN:STANDARD
TZOFFSETFROM:-0500
TZOFFSETTO:-0600
TZNAME:CST
DTSTART:20261101T070000
END:STANDARD
END:VTIMEZONE
BEGIN:VEVENT
DTSTART;VALUE=DATE:20250919
DTEND;VALUE=DATE:20250922
DTSTAMP:20260423T012253
CREATED:20250605T190709Z
LAST-MODIFIED:20250716T182929Z
UID:10004842-1758240000-1758499199@trinitymequon.org
SUMMARY:Men's Retreat
DESCRIPTION:Looking for a weekend of adventure and connection? Join Trinity’s Men’s Retreat in Mt. Morris\, WI from September 19-21! Whether you’re hitting the trails\, casting a line\, or getting into some target practice\, this retreat has it all . Plus\, we’ll be diving into Every Good Endeavor by Tim Keller\, a book about how to find meaning and purpose in your work and career through biblical wisdom and practical advice. \nOpen to all Trinity men and their friends\, regardless of church affiliation. Don’t miss out! \nRegister below or forms can be found in the Gathering Room (turn into office). \nOrder your book\, TIM KELLER’S EVERY GOOD ENDEAVOR on Amazon or the bookstore of your choice. If necessary\, contact Fred to secure a book prior to the retreat. Important to read prior to retreat! \nPlease include names of participants and at least one email. 
URL:https://trinitymequon.org/event/mens-retreat-2/
LOCATION:Todd Tischer’s Retreat\, 6209 W Bighorn Lane\, Wautoma\, Wisconsin\, 54982
CATEGORIES:Trinity Events
ATTACH;FMTTYPE=image/png:https://trinitymequon.org/wp-content/uploads/2025/06/Mens-Retreat-Feature-640x360-1.png
ORGANIZER;CN="Fred Mollwitz":MAILTO:fredm@starpromo.net
END:VEVENT
BEGIN:VEVENT
DTSTART;TZID=America/Chicago:20250921T080000
DTEND;TZID=America/Chicago:20250921T090000
DTSTAMP:20260423T012253
CREATED:20240711T185223Z
LAST-MODIFIED:20260410T204044Z
UID:10002972-1758441600-1758445200@trinitymequon.org
SUMMARY:Worship | Sunday 8:00 am
DESCRIPTION:
URL:https://trinitymequon.org/event/worship-sunday-800-am/2025-09-21/
LOCATION:Trinity Lutheran Freistadt\, 10729 West Freistadt Road\, Mequon\, WI\, 53097\, United States
CATEGORIES:Trinity Events,Worship
ATTACH;FMTTYPE=image/png:https://trinitymequon.org/wp-content/uploads/2025/06/Sanctuary-Worship-Feature-640-360.png
END:VEVENT
BEGIN:VEVENT
DTSTART;TZID=America/Chicago:20250921T093000
DTEND;TZID=America/Chicago:20250921T103000
DTSTAMP:20260423T012253
CREATED:20250605T185430Z
LAST-MODIFIED:20250918T134341Z
UID:10005171-1758447000-1758450600@trinitymequon.org
SUMMARY:Sunday School
DESCRIPTION:
URL:https://trinitymequon.org/event/sunday-school/2025-09-21/
LOCATION:Trinity Lutheran Freistadt\, 10729 West Freistadt Road\, Mequon\, WI\, 53097\, United States
CATEGORIES:Bible Study & Small Groups,Trinity Events
ATTACH;FMTTYPE=image/png:https://trinitymequon.org/wp-content/uploads/2025/06/Sunday-School-Feature-640x360-1.png
END:VEVENT
BEGIN:VEVENT
DTSTART;TZID=America/Chicago:20250921T093000
DTEND;TZID=America/Chicago:20250921T103000
DTSTAMP:20260423T012253
CREATED:20250605T185713Z
LAST-MODIFIED:20250905T210010Z
UID:10005072-1758447000-1758450600@trinitymequon.org
SUMMARY:Adult Bible Study
DESCRIPTION:Pastor led Sunday Bible Study is open to all adults and students 7th grade and up. Students are encouraged to attend Bible study alongside their parents. It is held in the Gathering Room.
URL:https://trinitymequon.org/event/bibl-study/2025-09-21/
LOCATION:Trinity Lutheran Freistadt\, 10729 West Freistadt Road\, Mequon\, WI\, 53097\, United States
CATEGORIES:Bible Study & Small Groups,Trinity Events
ATTACH;FMTTYPE=image/png:https://trinitymequon.org/wp-content/uploads/2025/06/Bible-Study-Feature-640x360-1.png
END:VEVENT
BEGIN:VEVENT
DTSTART;TZID=America/Chicago:20250921T104500
DTEND;TZID=America/Chicago:20250921T114500
DTSTAMP:20260423T012253
CREATED:20250605T150010Z
LAST-MODIFIED:20250605T183203Z
UID:10004429-1758451500-1758455100@trinitymequon.org
SUMMARY:Worship | Sunday 10:45 am
DESCRIPTION:
URL:https://trinitymequon.org/event/worship-sunday-1045-am/2025-09-21/
LOCATION:Trinity Lutheran Freistadt\, 10729 West Freistadt Road\, Mequon\, WI\, 53097\, United States
CATEGORIES:Trinity Events,Worship
ATTACH;FMTTYPE=image/png:https://trinitymequon.org/wp-content/uploads/2025/06/Sanctuary-Worship-Feature-640-360.png
END:VEVENT
BEGIN:VEVENT
DTSTART;TZID=America/Chicago:20250921T183000
DTEND;TZID=America/Chicago:20250921T200000
DTSTAMP:20260423T012253
CREATED:20250807T173948Z
LAST-MODIFIED:20251031T184242Z
UID:10005213-1758479400-1758484800@trinitymequon.org
SUMMARY:Youth Group Meeting
DESCRIPTION:
URL:https://trinitymequon.org/event/youth-group-meeting/2025-09-21/
LOCATION:Trinity Lutheran Freistadt\, 10729 West Freistadt Road\, Mequon\, WI\, 53097\, United States
CATEGORIES:Bible Study & Small Groups,Trinity Events,Youth
ATTACH;FMTTYPE=image/png:https://trinitymequon.org/wp-content/uploads/2025/08/Combined-Youth-Group640x360.png
END:VEVENT
BEGIN:VEVENT
DTSTART;TZID=America/Chicago:20250923T073000
DTEND;TZID=America/Chicago:20250923T083000
DTSTAMP:20260423T012253
CREATED:20250605T180239Z
LAST-MODIFIED:20250905T205859Z
UID:10004601-1758612600-1758616200@trinitymequon.org
SUMMARY:Stuff They Didn't Teach You in Sunday School
DESCRIPTION:Ready to get behind the scenes on those great stories you heard as a kid but wondered about as an adult? Well\, wonder no longer. Fred has been leading this video-based study called “Stuff They Didn’t Teach Me in Sunday School” for several years now\, and the episodes just keep coming! Watch and listen as Bruce Wurdeman drives his way through Scripture and comes up with stuff even a Hebrew scholar would enjoy. \nEach week features a separate Bible story\, so even if you miss a week here and there\, you can jump in and out without feeling like you’re behind. Fred’s study is for both men and women and for all ages.
URL:https://trinitymequon.org/event/bible-study-2/2025-09-23/
LOCATION:Trinity Lutheran Freistadt\, 10729 West Freistadt Road\, Mequon\, WI\, 53097\, United States
CATEGORIES:Bible Study & Small Groups,Trinity Events
ATTACH;FMTTYPE=image/png:https://trinitymequon.org/wp-content/uploads/2025/06/Bible-Study-Feature-640x360-1.png
END:VEVENT
BEGIN:VEVENT
DTSTART;TZID=America/Chicago:20250923T170000
DTEND;TZID=America/Chicago:20250923T200000
DTSTAMP:20260423T012253
CREATED:20250828T153016Z
LAST-MODIFIED:20250828T153016Z
UID:10005029-1758646800-1758657600@trinitymequon.org
SUMMARY:Trinity Freistadt Historical Society’s 60th Anniversary Party
DESCRIPTION:Our Historical Society is 60 years old this year\, and we’re celebrating! Please consider joining our 60th Anniversary Party on Tuesday\, September 23 beginning at 5:00 p.m. at “Old Germantown” on Pleasant View Rd. in Germantown. You will need to pay for your own drinks and food\, but we need you to register so they have enough staff for our private party. Please email historical@trinityfreistadt.com or call 262-242-0724 to register. Hope to see you there!
URL:https://trinitymequon.org/event/trinity-freistadt-historical-societys-60th-anniversary-party/
LOCATION:Old Germantown\, W148N12696 Pleasant View Dr\, Germantown\, WI\, 53022\, United States
CATEGORIES:Historical Society,Trinity Events
ORGANIZER;CN="Freistadt Historical Society":MAILTO:historical@trinityfreistadt.com
END:VEVENT
BEGIN:VEVENT
DTSTART;TZID=America/Chicago:20250924T080000
DTEND;TZID=America/Chicago:20250924T093000
DTSTAMP:20260423T012253
CREATED:20250905T210250Z
LAST-MODIFIED:20250905T210250Z
UID:10005102-1758700800-1758706200@trinitymequon.org
SUMMARY:Women’s Bible Study
DESCRIPTION:Join our Wednesday morning women’s group in their continued study of the scriptures. \nOur Wednesday study is a relaxed\, no pressure group that is great for busy moms. \nThis is held in the Ministry House and led by Anna Hackbarth.
URL:https://trinitymequon.org/event/womens-bible-study-2/2025-09-24/
LOCATION:Trinity Lutheran Freistadt\, 10729 West Freistadt Road\, Mequon\, WI\, 53097\, United States
CATEGORIES:Bible Study & Small Groups,Trinity Events
ATTACH;FMTTYPE=image/png:https://trinitymequon.org/wp-content/uploads/2025/09/Womens-Bible-Study-Feature-640x360-1.png
END:VEVENT
BEGIN:VEVENT
DTSTART;TZID=America/Chicago:20250925T174500
DTEND;TZID=America/Chicago:20250925T184500
DTSTAMP:20260423T012253
CREATED:20250605T184336Z
LAST-MODIFIED:20250605T184915Z
UID:10004713-1758822300-1758825900@trinitymequon.org
SUMMARY:Adults Bells
DESCRIPTION:
URL:https://trinitymequon.org/event/adults-bells/2025-09-25/
LOCATION:Trinity Lutheran Freistadt\, 10729 West Freistadt Road\, Mequon\, WI\, 53097\, United States
CATEGORIES:Trinity Events
ATTACH;FMTTYPE=image/png:https://trinitymequon.org/wp-content/uploads/2025/06/Handbells-Feature-640x360-1.png
END:VEVENT
BEGIN:VEVENT
DTSTART;TZID=America/Chicago:20250925T190000
DTEND;TZID=America/Chicago:20250925T203000
DTSTAMP:20260423T012253
CREATED:20250605T184837Z
LAST-MODIFIED:20250605T184837Z
UID:10004744-1758826800-1758832200@trinitymequon.org
SUMMARY:Mixed Choir
DESCRIPTION:
URL:https://trinitymequon.org/event/mixed-choir/2025-09-25/
LOCATION:Trinity Lutheran Freistadt\, 10729 West Freistadt Road\, Mequon\, WI\, 53097\, United States
CATEGORIES:Trinity Events
ATTACH;FMTTYPE=image/png:https://trinitymequon.org/wp-content/uploads/2025/06/Choir-Feature-640x360-1.png
END:VEVENT
BEGIN:VEVENT
DTSTART;TZID=America/Chicago:20250926T180000
DTEND;TZID=America/Chicago:20250926T200000
DTSTAMP:20260423T012253
CREATED:20250605T191050Z
LAST-MODIFIED:20250605T191608Z
UID:10004845-1758909600-1758916800@trinitymequon.org
SUMMARY:Apostle's Creed Confirmation Workshop - Option 1
DESCRIPTION:
URL:https://trinitymequon.org/event/apostles-creed-confirmation-workshop-option-1/
LOCATION:Trinity Lutheran Freistadt\, 10729 West Freistadt Road\, Mequon\, WI\, 53097\, United States
CATEGORIES:Confirmation,Trinity Events
ATTACH;FMTTYPE=image/png:https://trinitymequon.org/wp-content/uploads/2025/06/Confirmation-Workshop-Feature-640x360-1.png
END:VEVENT
BEGIN:VEVENT
DTSTART;VALUE=DATE:20250927
DTEND;VALUE=DATE:20250929
DTSTAMP:20260423T012253
CREATED:20250605T190828Z
LAST-MODIFIED:20250605T190828Z
UID:10004843-1758931200-1759103999@trinitymequon.org
SUMMARY:3rd Grade Bible Presentations - All Worship Services
DESCRIPTION:
URL:https://trinitymequon.org/event/3rd-grade-bible-presentations-all-worship-services/
LOCATION:Trinity Lutheran Freistadt\, 10729 West Freistadt Road\, Mequon\, WI\, 53097\, United States
ATTACH;FMTTYPE=image/png:https://trinitymequon.org/wp-content/uploads/2025/06/3rd-Grade-Feature-640x360-1.png
END:VEVENT
BEGIN:VEVENT
DTSTART;TZID=America/Chicago:20250927T070000
DTEND;TZID=America/Chicago:20250927T080000
DTSTAMP:20260423T012253
CREATED:20250605T173632Z
LAST-MODIFIED:20250905T210713Z
UID:10004484-1758956400-1758960000@trinitymequon.org
SUMMARY:Men's Bible Study
DESCRIPTION:Join our Saturday morning men’s group in their continued study of the scriptures. \nOur Saturday study is a relaxed\, no pressure group. No need to sign up – just show up!
URL:https://trinitymequon.org/event/mens-bible-study/2025-09-27/
LOCATION:Trinity Lutheran Freistadt\, 10729 West Freistadt Road\, Mequon\, WI\, 53097\, United States
CATEGORIES:Bible Study & Small Groups,Trinity Events
ATTACH;FMTTYPE=image/png:https://trinitymequon.org/wp-content/uploads/2025/06/Bible-Study-Feature-640x360-1.png
END:VEVENT
BEGIN:VEVENT
DTSTART;TZID=America/Chicago:20250927T080000
DTEND;TZID=America/Chicago:20250927T120000
DTSTAMP:20260423T012253
CREATED:20250605T191404Z
LAST-MODIFIED:20250605T191439Z
UID:10004848-1758960000-1758974400@trinitymequon.org
SUMMARY:Apostle's Creed Confirmation Workshop - Option 1
DESCRIPTION:
URL:https://trinitymequon.org/event/apostles-creed-confirmation-workshop-option-1-2/
LOCATION:Trinity Lutheran Freistadt\, 10729 West Freistadt Road\, Mequon\, WI\, 53097\, United States
CATEGORIES:Confirmation,Trinity Events
ATTACH;FMTTYPE=image/png:https://trinitymequon.org/wp-content/uploads/2025/06/Confirmation-Workshop-Feature-640x360-1.png
END:VEVENT
BEGIN:VEVENT
DTSTART;TZID=America/Chicago:20250927T170000
DTEND;TZID=America/Chicago:20250927T180000
DTSTAMP:20260423T012253
CREATED:20240711T184444Z
LAST-MODIFIED:20250605T212258Z
UID:10003187-1758992400-1758996000@trinitymequon.org
SUMMARY:Worship | Saturday 5:00 pm
DESCRIPTION:
URL:https://trinitymequon.org/event/worship-saturday-500-pm/2025-09-27/
LOCATION:Trinity Lutheran Freistadt\, 10729 West Freistadt Road\, Mequon\, WI\, 53097\, United States
CATEGORIES:Trinity Events,Worship
ATTACH;FMTTYPE=image/png:https://trinitymequon.org/wp-content/uploads/2025/06/Sanctuary-Worship-Feature-640-360.png
END:VEVENT
END:VCALENDAR