BEGIN:VCALENDAR
VERSION:2.0
PRODID:-//Trinity Lutheran Church, School &amp; Childcare of Freistadt - ECPv6.15.20//NONSGML v1.0//EN
CALSCALE:GREGORIAN
METHOD:PUBLISH
X-ORIGINAL-URL:https://trinitymequon.org
X-WR-CALDESC:Events for Trinity Lutheran Church, School &amp; Childcare of Freistadt
REFRESH-INTERVAL;VALUE=DURATION:PT1H
X-Robots-Tag:noindex
X-PUBLISHED-TTL:PT1H
BEGIN:VTIMEZONE
TZID:America/Chicago
BEGIN:DAYLIGHT
TZOFFSETFROM:-0600
TZOFFSETTO:-0500
TZNAME:CDT
DTSTART:20240310T080000
END:DAYLIGHT
BEGIN:STANDARD
TZOFFSETFROM:-0500
TZOFFSETTO:-0600
TZNAME:CST
DTSTART:20241103T070000
END:STANDARD
BEGIN:DAYLIGHT
TZOFFSETFROM:-0600
TZOFFSETTO:-0500
TZNAME:CDT
DTSTART:20250309T080000
END:DAYLIGHT
BEGIN:STANDARD
TZOFFSETFROM:-0500
TZOFFSETTO:-0600
TZNAME:CST
DTSTART:20251102T070000
END:STANDARD
BEGIN:DAYLIGHT
TZOFFSETFROM:-0600
TZOFFSETTO:-0500
TZNAME:CDT
DTSTART:20260308T080000
END:DAYLIGHT
BEGIN:STANDARD
TZOFFSETFROM:-0500
TZOFFSETTO:-0600
TZNAME:CST
DTSTART:20261101T070000
END:STANDARD
BEGIN:DAYLIGHT
TZOFFSETFROM:-0600
TZOFFSETTO:-0500
TZNAME:CDT
DTSTART:20270314T080000
END:DAYLIGHT
BEGIN:STANDARD
TZOFFSETFROM:-0500
TZOFFSETTO:-0600
TZNAME:CST
DTSTART:20271107T070000
END:STANDARD
END:VTIMEZONE
BEGIN:VEVENT
DTSTART;VALUE=DATE:20251229
DTEND;VALUE=DATE:20260103
DTSTAMP:20260420T004839
CREATED:20250605T195505Z
LAST-MODIFIED:20250605T195505Z
UID:10004876-1766966400-1767398399@trinitymequon.org
SUMMARY:Campus Closed
DESCRIPTION:
URL:https://trinitymequon.org/event/campus-closed-3/2025-12-29/
LOCATION:Trinity Lutheran Freistadt\, 10729 West Freistadt Road\, Mequon\, WI\, 53097\, United States
CATEGORIES:Childcare Closed,No School,Trinity Events
ATTACH;FMTTYPE=image/png:https://trinitymequon.org/wp-content/uploads/2025/06/Campus-Closed-Feature-640x360-1.png
END:VEVENT
BEGIN:VEVENT
DTSTART;TZID=America/Chicago:20251231T183000
DTEND;TZID=America/Chicago:20251231T193000
DTSTAMP:20260420T004839
CREATED:20250605T211048Z
LAST-MODIFIED:20250605T211048Z
UID:10004932-1767205800-1767209400@trinitymequon.org
SUMMARY:New Year's Eve Worship
DESCRIPTION:
URL:https://trinitymequon.org/event/new-years-eve-worship/
LOCATION:Trinity Lutheran Freistadt\, 10729 West Freistadt Road\, Mequon\, WI\, 53097\, United States
CATEGORIES:Trinity Events,Worship
ATTACH;FMTTYPE=image/png:https://trinitymequon.org/wp-content/uploads/2025/06/New-Years-Worship-Feature-640-360.png
END:VEVENT
BEGIN:VEVENT
DTSTART;TZID=America/Chicago:20260102T073000
DTEND;TZID=America/Chicago:20260102T203000
DTSTAMP:20260420T004839
CREATED:20251112T135339Z
LAST-MODIFIED:20251112T135339Z
UID:10005519-1767339000-1767385800@trinitymequon.org
SUMMARY:Prayer Group
DESCRIPTION:Join us for a time of intentional prayer and fellowship! We meet Fridays from 7:30–8:30 am at the Ministry House. We are praying through the Names of God and lifting up our church\, school\, and childcare ministries. \nDo you have a passion for prayer? Want to grow deeper with God and make new friends? All are welcome to join. Come\, be part of this growing community of prayer! \nJust show up or contact the office to get involved.
URL:https://trinitymequon.org/event/prayer-group/2026-01-02/
LOCATION:Trinity Lutheran Freistadt\, 10729 West Freistadt Road\, Mequon\, WI\, 53097\, United States
CATEGORIES:Bible Study & Small Groups,Trinity Events
ATTACH;FMTTYPE=image/png:https://trinitymequon.org/wp-content/uploads/2025/11/Prayer-Group-Feature-640x360-1.png
END:VEVENT
BEGIN:VEVENT
DTSTART;TZID=America/Chicago:20260103T070000
DTEND;TZID=America/Chicago:20260103T080000
DTSTAMP:20260420T004839
CREATED:20250902T205555Z
LAST-MODIFIED:20250902T210016Z
UID:10005035-1767423600-1767427200@trinitymequon.org
SUMMARY:Men's Bible Study
DESCRIPTION:
URL:https://trinitymequon.org/event/mens-bible-study-2/2026-01-03/
LOCATION:Trinity Lutheran Freistadt\, 10729 West Freistadt Road\, Mequon\, WI\, 53097\, United States
CATEGORIES:Bible Study & Small Groups,Trinity Events
ATTACH;FMTTYPE=image/png:https://trinitymequon.org/wp-content/uploads/2025/06/Bible-Study-Feature-640x360-1.png
END:VEVENT
BEGIN:VEVENT
DTSTART;TZID=America/Chicago:20260103T170000
DTEND;TZID=America/Chicago:20260103T180000
DTSTAMP:20260420T004839
CREATED:20240711T184444Z
LAST-MODIFIED:20250605T212258Z
UID:10003201-1767459600-1767463200@trinitymequon.org
SUMMARY:Worship | Saturday 5:00 pm
DESCRIPTION:
URL:https://trinitymequon.org/event/worship-saturday-500-pm/2026-01-03/
LOCATION:Trinity Lutheran Freistadt\, 10729 West Freistadt Road\, Mequon\, WI\, 53097\, United States
CATEGORIES:Trinity Events,Worship
ATTACH;FMTTYPE=image/png:https://trinitymequon.org/wp-content/uploads/2025/06/Sanctuary-Worship-Feature-640-360.png
END:VEVENT
BEGIN:VEVENT
DTSTART;TZID=America/Chicago:20260104T080000
DTEND;TZID=America/Chicago:20260104T090000
DTSTAMP:20260420T004839
CREATED:20240711T185223Z
LAST-MODIFIED:20260410T204044Z
UID:10002987-1767513600-1767517200@trinitymequon.org
SUMMARY:Worship | Sunday 8:00 am
DESCRIPTION:
URL:https://trinitymequon.org/event/worship-sunday-800-am/2026-01-04/
LOCATION:Trinity Lutheran Freistadt\, 10729 West Freistadt Road\, Mequon\, WI\, 53097\, United States
CATEGORIES:Trinity Events,Worship
ATTACH;FMTTYPE=image/png:https://trinitymequon.org/wp-content/uploads/2025/06/Sanctuary-Worship-Feature-640-360.png
END:VEVENT
BEGIN:VEVENT
DTSTART;TZID=America/Chicago:20260104T093000
DTEND;TZID=America/Chicago:20260104T103000
DTSTAMP:20260420T004839
CREATED:20251223T154403Z
LAST-MODIFIED:20251223T154403Z
UID:10005511-1767519000-1767522600@trinitymequon.org
SUMMARY:Youth Group Informational Meeting and Input Session
DESCRIPTION:
URL:https://trinitymequon.org/event/youth-group-informational-meeting-and-input-session/
LOCATION:Trinity Lutheran Freistadt\, 10729 West Freistadt Road\, Mequon\, WI\, 53097\, United States
CATEGORIES:Trinity Events,Youth
ATTACH;FMTTYPE=image/png:https://trinitymequon.org/wp-content/uploads/2025/06/Youth-Group-Feature-640x360-1.png
ORGANIZER;CN="Pastor Daniel Reh":MAILTO:dreh@trinityfreistadt.com
END:VEVENT
BEGIN:VEVENT
DTSTART;TZID=America/Chicago:20260104T104500
DTEND;TZID=America/Chicago:20260104T114500
DTSTAMP:20260420T004839
CREATED:20250605T150010Z
LAST-MODIFIED:20250605T183203Z
UID:10004444-1767523500-1767527100@trinitymequon.org
SUMMARY:Worship | Sunday 10:45 am
DESCRIPTION:
URL:https://trinitymequon.org/event/worship-sunday-1045-am/2026-01-04/
LOCATION:Trinity Lutheran Freistadt\, 10729 West Freistadt Road\, Mequon\, WI\, 53097\, United States
CATEGORIES:Trinity Events,Worship
ATTACH;FMTTYPE=image/png:https://trinitymequon.org/wp-content/uploads/2025/06/Sanctuary-Worship-Feature-640-360.png
END:VEVENT
BEGIN:VEVENT
DTSTART;TZID=America/Chicago:20260106T073000
DTEND;TZID=America/Chicago:20260106T083000
DTSTAMP:20260420T004839
CREATED:20250605T180239Z
LAST-MODIFIED:20250905T205859Z
UID:10004616-1767684600-1767688200@trinitymequon.org
SUMMARY:Stuff They Didn't Teach You in Sunday School
DESCRIPTION:Ready to get behind the scenes on those great stories you heard as a kid but wondered about as an adult? Well\, wonder no longer. Fred has been leading this video-based study called “Stuff They Didn’t Teach Me in Sunday School” for several years now\, and the episodes just keep coming! Watch and listen as Bruce Wurdeman drives his way through Scripture and comes up with stuff even a Hebrew scholar would enjoy. \nEach week features a separate Bible story\, so even if you miss a week here and there\, you can jump in and out without feeling like you’re behind. Fred’s study is for both men and women and for all ages.
URL:https://trinitymequon.org/event/bible-study-2/2026-01-06/
LOCATION:Trinity Lutheran Freistadt\, 10729 West Freistadt Road\, Mequon\, WI\, 53097\, United States
CATEGORIES:Bible Study & Small Groups,Trinity Events
ATTACH;FMTTYPE=image/png:https://trinitymequon.org/wp-content/uploads/2025/06/Bible-Study-Feature-640x360-1.png
END:VEVENT
BEGIN:VEVENT
DTSTART;TZID=America/Chicago:20260107T080000
DTEND;TZID=America/Chicago:20260107T093000
DTSTAMP:20260420T004839
CREATED:20250905T210250Z
LAST-MODIFIED:20250905T210250Z
UID:10005114-1767772800-1767778200@trinitymequon.org
SUMMARY:Women’s Bible Study
DESCRIPTION:Join our Wednesday morning women’s group in their continued study of the scriptures. \nOur Wednesday study is a relaxed\, no pressure group that is great for busy moms. \nThis is held in the Ministry House and led by Anna Hackbarth.
URL:https://trinitymequon.org/event/womens-bible-study-2/2026-01-07/
LOCATION:Trinity Lutheran Freistadt\, 10729 West Freistadt Road\, Mequon\, WI\, 53097\, United States
CATEGORIES:Bible Study & Small Groups,Trinity Events
ATTACH;FMTTYPE=image/png:https://trinitymequon.org/wp-content/uploads/2025/09/Womens-Bible-Study-Feature-640x360-1.png
END:VEVENT
BEGIN:VEVENT
DTSTART;TZID=America/Chicago:20260110T081500
DTEND;TZID=America/Chicago:20260110T091500
DTSTAMP:20260420T004839
CREATED:20260107T201227Z
LAST-MODIFIED:20260213T174416Z
UID:10005524-1768032900-1768036500@trinitymequon.org
SUMMARY:Women's Bible Study
DESCRIPTION:Join our Saturday morning women’s group in their continued study of the scriptures. \nOur Saturday study is a relaxed\, no pressure group that is great for busy moms.
URL:https://trinitymequon.org/event/womens-bible-study-5/2026-01-10/
LOCATION:Trinity Lutheran Freistadt\, 10729 West Freistadt Road\, Mequon\, WI\, 53097\, United States
CATEGORIES:Bible Study & Small Groups,Trinity Events
ATTACH;FMTTYPE=image/png:https://trinitymequon.org/wp-content/uploads/2025/09/Womens-Bible-Study-Feature-640x360-1.png
ORGANIZER;CN="Cindy Mollwitz":MAILTO:cmollwitz@trinityfreistadt.com
END:VEVENT
BEGIN:VEVENT
DTSTART;TZID=America/Chicago:20260110T090000
DTEND;TZID=America/Chicago:20260110T103000
DTSTAMP:20260420T004839
CREATED:20251125T191517Z
LAST-MODIFIED:20260126T162123Z
UID:10005497-1768035600-1768041000@trinitymequon.org
SUMMARY:Coffee & Conversations | "The Tech Exit"
DESCRIPTION:Join us for coffee and conversation inspired by the book “The Tech Exit” by Clare Morell. Bring your favorite mug and the book! We will discuss smartphone-free childhood and explore the how-to of analog living together. RSVP to Mollie Edwards – medwards@trinityfreistadt.com.
URL:https://trinitymequon.org/event/coffee-conversations-the-tech-exit/2026-01-10/
LOCATION:Trinity Lutheran Freistadt\, 10729 West Freistadt Road\, Mequon\, WI\, 53097\, United States
CATEGORIES:Bible Study & Small Groups,Trinity Events
ATTACH;FMTTYPE=image/png:https://trinitymequon.org/wp-content/uploads/2025/11/Coffee-Conversation.png
END:VEVENT
BEGIN:VEVENT
DTSTART;TZID=America/Chicago:20260113T180000
DTEND;TZID=America/Chicago:20260113T210000
DTSTAMP:20260420T004839
CREATED:20250605T151133Z
LAST-MODIFIED:20250710T133857Z
UID:10004468-1768327200-1768338000@trinitymequon.org
SUMMARY:Board of Lay Leaders Meeting
DESCRIPTION:
URL:https://trinitymequon.org/event/board-of-lay-leaders-meeting/2026-01-13/
LOCATION:Trinity Lutheran Freistadt\, 10729 West Freistadt Road\, Mequon\, WI\, 53097\, United States
CATEGORIES:Trinity Events
ATTACH;FMTTYPE=image/png:https://trinitymequon.org/wp-content/uploads/2025/06/BLL-Feature-640x360-1.png
END:VEVENT
BEGIN:VEVENT
DTSTART;TZID=America/Chicago:20260115T170000
DTEND;TZID=America/Chicago:20260115T190000
DTSTAMP:20260420T004839
CREATED:20251226T143031Z
LAST-MODIFIED:20251226T143350Z
UID:10004726-1768496400-1768503600@trinitymequon.org
SUMMARY:Adults Bells
DESCRIPTION:
URL:https://trinitymequon.org/event/adults-bells-3/
LOCATION:Trinity Lutheran Freistadt\, 10729 West Freistadt Road\, Mequon\, WI\, 53097\, United States
CATEGORIES:Trinity Events
ATTACH;FMTTYPE=image/png:https://trinitymequon.org/wp-content/uploads/2025/06/Handbells-Feature-640x360-1.png
END:VEVENT
BEGIN:VEVENT
DTSTART;TZID=America/Chicago:20260115T190000
DTEND;TZID=America/Chicago:20260115T200000
DTSTAMP:20260420T004839
CREATED:20251226T143147Z
LAST-MODIFIED:20251226T143213Z
UID:10004756-1768503600-1768507200@trinitymequon.org
SUMMARY:Mixed Choir
DESCRIPTION:
URL:https://trinitymequon.org/event/mixed-choir-2/
LOCATION:Trinity Lutheran Freistadt\, 10729 West Freistadt Road\, Mequon\, WI\, 53097\, United States
CATEGORIES:Trinity Events
ATTACH;FMTTYPE=image/png:https://trinitymequon.org/wp-content/uploads/2025/06/Choir-Feature-640x360-1.png
END:VEVENT
BEGIN:VEVENT
DTSTART;VALUE=DATE:20260116
DTEND;VALUE=DATE:20260117
DTSTAMP:20260420T004839
CREATED:20250605T195745Z
LAST-MODIFIED:20250605T195745Z
UID:10004881-1768521600-1768607999@trinitymequon.org
SUMMARY:End Q2
DESCRIPTION:
URL:https://trinitymequon.org/event/end-q2/
LOCATION:Trinity Lutheran Freistadt\, 10729 West Freistadt Road\, Mequon\, WI\, 53097\, United States
CATEGORIES:Trinity Events
END:VEVENT
BEGIN:VEVENT
DTSTART;TZID=America/Chicago:20260116T083000
DTEND;TZID=America/Chicago:20260116T100000
DTSTAMP:20260420T004839
CREATED:20251223T182246Z
LAST-MODIFIED:20251223T182246Z
UID:10005145-1768552200-1768557600@trinitymequon.org
SUMMARY:Women's Bible Study
DESCRIPTION:Join our Friday morning women’s group in their continued study of the scriptures. \nOur Friday study is a relaxed\, no pressure group that is great for busy moms.
URL:https://trinitymequon.org/event/womens-bible-study/
LOCATION:Trinity Lutheran Freistadt\, 10729 West Freistadt Road\, Mequon\, WI\, 53097\, United States
CATEGORIES:Bible Study & Small Groups,Trinity Events
ATTACH;FMTTYPE=image/png:https://trinitymequon.org/wp-content/uploads/2025/09/Womens-Bible-Study-Feature-640x360-1.png
END:VEVENT
BEGIN:VEVENT
DTSTART;TZID=America/Chicago:20260118T091500
DTEND;TZID=America/Chicago:20260118T103000
DTSTAMP:20260420T004839
CREATED:20251226T143930Z
LAST-MODIFIED:20251226T143930Z
UID:10005521-1768727700-1768732200@trinitymequon.org
SUMMARY:Handbell & Choir Rehearse
DESCRIPTION:
URL:https://trinitymequon.org/event/handbell-choir-rehearse/
LOCATION:Trinity Lutheran Freistadt\, 10729 West Freistadt Road\, Mequon\, WI\, 53097\, United States
CATEGORIES:Trinity Events
END:VEVENT
BEGIN:VEVENT
DTSTART;TZID=America/Chicago:20260118T160000
DTEND;TZID=America/Chicago:20260118T170000
DTSTAMP:20260420T004839
CREATED:20251223T172513Z
LAST-MODIFIED:20260109T190742Z
UID:10005512-1768752000-1768755600@trinitymequon.org
SUMMARY:Service of Installation for Rev. Schram
DESCRIPTION:
URL:https://trinitymequon.org/event/service-of-installation-for-rev-schram/
LOCATION:Trinity Lutheran Freistadt\, 10729 West Freistadt Road\, Mequon\, WI\, 53097\, United States
CATEGORIES:Trinity Events
ATTACH;FMTTYPE=image/png:https://trinitymequon.org/wp-content/uploads/2025/12/Schram-Install.png
END:VEVENT
BEGIN:VEVENT
DTSTART;VALUE=DATE:20260119
DTEND;VALUE=DATE:20260120
DTSTAMP:20260420T004839
CREATED:20250605T211128Z
LAST-MODIFIED:20250605T211128Z
UID:10004933-1768780800-1768867199@trinitymequon.org
SUMMARY:No School
DESCRIPTION:Wrap Around Care is available
URL:https://trinitymequon.org/event/no-school-5/
LOCATION:Trinity Lutheran Freistadt\, 10729 West Freistadt Road\, Mequon\, WI\, 53097\, United States
CATEGORIES:No School,Trinity Events
ATTACH;FMTTYPE=image/png:https://trinitymequon.org/wp-content/uploads/2025/06/No-School-Feature-640x360-1.png
END:VEVENT
BEGIN:VEVENT
DTSTART;TZID=America/Chicago:20260119T120000
DTEND;TZID=America/Chicago:20260119T143000
DTSTAMP:20260420T004839
CREATED:20251202T164433Z
LAST-MODIFIED:20251202T164433Z
UID:10005503-1768824000-1768833000@trinitymequon.org
SUMMARY:LWML Soup Luncheon
DESCRIPTION:Please join us for a soup luncheon and bible study followed by a business meeting. We will gather at Noon on Monday\, January 19. Enjoy some hot soup and warm fellowship on a cold day.
URL:https://trinitymequon.org/event/lwml-soup-luncheon/
LOCATION:Trinity Lutheran Freistadt\, 10729 West Freistadt Road\, Mequon\, WI\, 53097\, United States
CATEGORIES:Trinity Events
ATTACH;FMTTYPE=image/png:https://trinitymequon.org/wp-content/uploads/2025/06/LWML-Feature-640x360-1.png
ORGANIZER;CN="LWML":MAILTO:gaylaboehlke25@gmail.com
END:VEVENT
BEGIN:VEVENT
DTSTART;TZID=America/Chicago:20260119T190000
DTEND;TZID=America/Chicago:20260119T210000
DTSTAMP:20260420T004839
CREATED:20251031T185604Z
LAST-MODIFIED:20251031T185604Z
UID:10005222-1768849200-1768856400@trinitymequon.org
SUMMARY:Historical Society Meeting
DESCRIPTION:
URL:https://trinitymequon.org/event/historical-society-meeting/2026-01-19/
LOCATION:Trinity Lutheran Freistadt\, 10729 West Freistadt Road\, Mequon\, WI\, 53097\, United States
CATEGORIES:Historical Society,Trinity Events
ATTACH;FMTTYPE=image/png:https://trinitymequon.org/wp-content/uploads/2025/06/Historical-Society-Feature-640x360-1.png
END:VEVENT
BEGIN:VEVENT
DTSTART;TZID=America/Chicago:20260121T180000
DTEND;TZID=America/Chicago:20260121T200000
DTSTAMP:20260420T004839
CREATED:20250605T174556Z
LAST-MODIFIED:20250605T174556Z
UID:10004579-1769018400-1769025600@trinitymequon.org
SUMMARY:Elders' Meeting
DESCRIPTION:
URL:https://trinitymequon.org/event/elders-meeting/2026-01-21/
LOCATION:Trinity Lutheran Freistadt\, 10729 West Freistadt Road\, Mequon\, WI\, 53097\, United States
CATEGORIES:Trinity Events
ATTACH;FMTTYPE=image/png:https://trinitymequon.org/wp-content/uploads/2025/06/Elders-Feature-640x360-1.png
END:VEVENT
BEGIN:VEVENT
DTSTART;TZID=America/Chicago:20260125T080000
DTEND;TZID=America/Chicago:20260125T090000
DTSTAMP:20260420T004839
CREATED:20250606T135105Z
LAST-MODIFIED:20250606T135239Z
UID:10004961-1769328000-1769331600@trinitymequon.org
SUMMARY:Students in Worship
DESCRIPTION:Sunday\, 9/28/25 \nSunday\, 10/12/25 \nSaturday\, 11/8/25 \nSaturday\, 11/22/25 \nSunday\, 11/23/25 \nSunday\, 1/25/26 \nSaturday\, 2/21/26 \nSaturday\, 3/7/26 \nSunday\, 4/26/26 \nSunday\, 4/26/26 \n10:45 am \n10:45 am \n5:00 pm \n5:00 pm \n10:45 am \n8:00 am \n5:00 pm \n5:00 pm \n8:00 am \n10:45 am \n3rd & 4th grade \n1st & 2nd grade \nKindergarten \n3K & 4K \nConcert Choir \nKindergarten \n3rd & 4th grade \nS1st & 2nd grade \nConcert Choir \n3K & 4K
URL:https://trinitymequon.org/event/students-in-worship/2026-01-25/
LOCATION:Trinity Lutheran Freistadt\, 10729 West Freistadt Road\, Mequon\, WI\, 53097\, United States
CATEGORIES:Performance,Trinity Events,Worship
ATTACH;FMTTYPE=image/png:https://trinitymequon.org/wp-content/uploads/2025/06/Students-in-Worship-Feature-640x360-1.png
END:VEVENT
BEGIN:VEVENT
DTSTART;TZID=America/Chicago:20260125T120000
DTEND;TZID=America/Chicago:20260125T130000
DTSTAMP:20260420T004839
CREATED:20250605T200046Z
LAST-MODIFIED:20260123T203435Z
UID:10004883-1769342400-1769346000@trinitymequon.org
SUMMARY:Congregational Meeting
DESCRIPTION:1/25/26 Agenda\n11/9/25 Meeting Minutes\n11/30/25 Meeting Minutes
URL:https://trinitymequon.org/event/congregational-meeting-4/
LOCATION:Trinity Lutheran Freistadt\, 10729 West Freistadt Road\, Mequon\, WI\, 53097\, United States
CATEGORIES:Trinity Events
ATTACH;FMTTYPE=image/png:https://trinitymequon.org/wp-content/uploads/2025/06/Cong-Meeting-Feature-640x360-1.png
END:VEVENT
BEGIN:VEVENT
DTSTART;TZID=America/Chicago:20260127T170000
DTEND;TZID=America/Chicago:20260127T190000
DTSTAMP:20260420T004839
CREATED:20250605T200046Z
LAST-MODIFIED:20250605T211547Z
UID:10004884-1769533200-1769540400@trinitymequon.org
SUMMARY:Open House
DESCRIPTION:3K – 8th grade
URL:https://trinitymequon.org/event/open-house-2/
LOCATION:Trinity Lutheran Freistadt\, 10729 West Freistadt Road\, Mequon\, WI\, 53097\, United States
CATEGORIES:Trinity Events
ATTACH;FMTTYPE=image/png:https://trinitymequon.org/wp-content/uploads/2025/06/Open-House-Feature-640x360-1.png
END:VEVENT
BEGIN:VEVENT
DTSTART;TZID=America/Chicago:20260129T180000
DTEND;TZID=America/Chicago:20260129T203000
DTSTAMP:20260420T004839
CREATED:20260109T163245Z
LAST-MODIFIED:20260109T163245Z
UID:10005596-1769709600-1769718600@trinitymequon.org
SUMMARY:Ozaukee Skateland
DESCRIPTION:
URL:https://trinitymequon.org/event/ozaukee-skateland/
LOCATION:Trinity Lutheran Freistadt\, 10729 West Freistadt Road\, Mequon\, WI\, 53097\, United States
CATEGORIES:PTL,Trinity Events
ORGANIZER;CN="PTL":MAILTO:ptl@trinityfreistadt.com
END:VEVENT
BEGIN:VEVENT
DTSTART;VALUE=DATE:20260130
DTEND;VALUE=DATE:20260131
DTSTAMP:20260420T004839
CREATED:20250605T195841Z
LAST-MODIFIED:20250605T195841Z
UID:10004882-1769731200-1769817599@trinitymequon.org
SUMMARY:Campus Closed
DESCRIPTION:
URL:https://trinitymequon.org/event/campus-closed-4/
LOCATION:Trinity Lutheran Freistadt\, 10729 West Freistadt Road\, Mequon\, WI\, 53097\, United States
CATEGORIES:Childcare Closed,No School
ATTACH;FMTTYPE=image/png:https://trinitymequon.org/wp-content/uploads/2025/06/Campus-Closed-Feature-640x360-1.png
END:VEVENT
BEGIN:VEVENT
DTSTART;VALUE=DATE:20260130
DTEND;VALUE=DATE:20260131
DTSTAMP:20260420T004839
CREATED:20251031T190716Z
LAST-MODIFIED:20251031T190716Z
UID:10005227-1769731200-1769817599@trinitymequon.org
SUMMARY:No School or Childcare
DESCRIPTION:
URL:https://trinitymequon.org/event/no-school-or-childcare/
LOCATION:Trinity Lutheran Freistadt\, 10729 West Freistadt Road\, Mequon\, WI\, 53097\, United States
CATEGORIES:Childcare Closed,No School,Trinity Events
ATTACH;FMTTYPE=image/png:https://trinitymequon.org/wp-content/uploads/2025/06/Campus-Closed-Feature-640x360-1.png
END:VEVENT
BEGIN:VEVENT
DTSTART;TZID=America/Chicago:20260204T093000
DTEND;TZID=America/Chicago:20260204T110000
DTSTAMP:20260420T004839
CREATED:20260122T165839Z
LAST-MODIFIED:20260122T165839Z
UID:10004996-1770197400-1770202800@trinitymequon.org
SUMMARY:College Care Packing
DESCRIPTION:
URL:https://trinitymequon.org/event/college-care-packing-2/
LOCATION:Trinity Lutheran Freistadt\, 10729 West Freistadt Road\, Mequon\, WI\, 53097\, United States
CATEGORIES:Trinity Events
ATTACH;FMTTYPE=image/png:https://trinitymequon.org/wp-content/uploads/2025/06/College-Care-Packs-Feature-640x360-1.png
ORGANIZER;CN="Carl Lehenbauer":MAILTO:clehenbauer@trinityfreistadt.com
END:VEVENT
END:VCALENDAR