BEGIN:VCALENDAR
VERSION:2.0
PRODID:-//Trinity Lutheran Church, School &amp; Childcare of Freistadt - ECPv6.15.20//NONSGML v1.0//EN
CALSCALE:GREGORIAN
METHOD:PUBLISH
X-ORIGINAL-URL:https://trinitymequon.org
X-WR-CALDESC:Events for Trinity Lutheran Church, School &amp; Childcare of Freistadt
REFRESH-INTERVAL;VALUE=DURATION:PT1H
X-Robots-Tag:noindex
X-PUBLISHED-TTL:PT1H
BEGIN:VTIMEZONE
TZID:America/Chicago
BEGIN:DAYLIGHT
TZOFFSETFROM:-0600
TZOFFSETTO:-0500
TZNAME:CDT
DTSTART:20240310T080000
END:DAYLIGHT
BEGIN:STANDARD
TZOFFSETFROM:-0500
TZOFFSETTO:-0600
TZNAME:CST
DTSTART:20241103T070000
END:STANDARD
BEGIN:DAYLIGHT
TZOFFSETFROM:-0600
TZOFFSETTO:-0500
TZNAME:CDT
DTSTART:20250309T080000
END:DAYLIGHT
BEGIN:STANDARD
TZOFFSETFROM:-0500
TZOFFSETTO:-0600
TZNAME:CST
DTSTART:20251102T070000
END:STANDARD
BEGIN:DAYLIGHT
TZOFFSETFROM:-0600
TZOFFSETTO:-0500
TZNAME:CDT
DTSTART:20260308T080000
END:DAYLIGHT
BEGIN:STANDARD
TZOFFSETFROM:-0500
TZOFFSETTO:-0600
TZNAME:CST
DTSTART:20261101T070000
END:STANDARD
END:VTIMEZONE
BEGIN:VEVENT
DTSTART;TZID=America/Chicago:20250916T160000
DTEND;TZID=America/Chicago:20250916T200000
DTSTAMP:20260422T164829
CREATED:20250905T152722Z
LAST-MODIFIED:20250905T152722Z
UID:10005039-1758038400-1758052800@trinitymequon.org
SUMMARY:Robert’s Dine Out Night hosted by Stronger Families
DESCRIPTION:Join us for Robert’s Dine-Out Night on Tuesday\, September 16\, from 4:00–8:00 pm at Robert’s Frozen Custard in Germantown! Whether you dine in or carry out\, a portion of the evening’s proceeds will benefit Trinity’s school and childcare. Bring your appetite\, enjoy some delicious food and frozen custard\, and support our students and families at the same time.
URL:https://trinitymequon.org/event/roberts-dine-out-night-hosted-by-stronger-families/
LOCATION:Robert’s Frozen Custard\, N112W16040 Mequon Rd\, Germantown\, 53022\, United States
CATEGORIES:PTL,Trinity Events
ATTACH;FMTTYPE=image/png:https://trinitymequon.org/wp-content/uploads/2025/09/Roberts.png
ORGANIZER;CN="PTL":MAILTO:ptl@trinityfreistadt.com
END:VEVENT
BEGIN:VEVENT
DTSTART;TZID=America/Chicago:20250914T110000
DTEND;TZID=America/Chicago:20250914T150000
DTSTAMP:20260422T164829
CREATED:20250828T163312Z
LAST-MODIFIED:20250829T142910Z
UID:10005030-1757847600-1757862000@trinitymequon.org
SUMMARY:Trinity Freistadt Historical Society Fundraiser
DESCRIPTION:Old-Fashioned Games for Grown-Ups (and Kids too!)\nHosted by the Trinity Freistadt Historical Society\n\n\n\nSunday\, September 14\, 2025\n11:00 am – 3:00 pm\n\n\n\nBring the whole family for a day of fun\, laughter\, and friendly competition while supporting the construction of our new Timber Frame Exhibition Barn.\n\n\n\nEnjoy:\n\nOld-Fashioned Games for all ages\nSpecial 2025 Exhibits\nFood & Drinks available for purchase\n\n\n\n\nDonate: Venmo @trinityhistorical (Lutheran Historical Society of Freistadt) or PayPal historical@trinityfreistadt.com\n\n\nCome play\, eat\, and support history in the making!\n\nCheck out our 60th Anniversary Party on 9/23
URL:https://trinitymequon.org/event/trinity-freistadt-historical-society-fundraiser/
LOCATION:Trinity Lutheran Freistadt\, 10729 West Freistadt Road\, Mequon\, WI\, 53097\, United States
CATEGORIES:Historical Society,Trinity Events
ATTACH;FMTTYPE=image/png:https://trinitymequon.org/wp-content/uploads/2025/06/Historical-Society-Feature-640x360-1.png
ORGANIZER;CN="Freistadt Historical Society":MAILTO:historical@trinityfreistadt.com
END:VEVENT
BEGIN:VEVENT
DTSTART;TZID=America/Chicago:20250914T093000
DTEND;TZID=America/Chicago:20250914T103000
DTSTAMP:20260422T164829
CREATED:20250605T190612Z
LAST-MODIFIED:20250605T190612Z
UID:10004841-1757842200-1757845800@trinitymequon.org
SUMMARY:3rd Grade Bible Presentation Workshop
DESCRIPTION:
URL:https://trinitymequon.org/event/3rd-grade-bible-presentation-workshop/
LOCATION:Trinity Lutheran Freistadt\, 10729 West Freistadt Road\, Mequon\, WI\, 53097\, United States
CATEGORIES:Trinity Events
ATTACH;FMTTYPE=image/png:https://trinitymequon.org/wp-content/uploads/2025/06/3rd-Grade-Feature-640x360-1.png
END:VEVENT
BEGIN:VEVENT
DTSTART;TZID=America/Chicago:20250907T183000
DTEND;TZID=America/Chicago:20250907T200000
DTSTAMP:20260422T164829
CREATED:20250807T172509Z
LAST-MODIFIED:20250807T172509Z
UID:10005013-1757269800-1757275200@trinitymequon.org
SUMMARY:Youth Group Meet & Greet
DESCRIPTION:Calling all 7th–12th graders (and parents)! Please mark your calendars for Sunday\, September 7\, from 6:30–8:00 p.m. as we gather at the Strand Farm to kick off the year ahead! Join us for an evening of sweet treats\, fun games\, and great conversation as we connect with our brothers and sisters from Beautiful Savior and Trinity Freistadt and look ahead to what’s in store. We’d love to have you there—your presence and input are truly valued!
URL:https://trinitymequon.org/event/youth-group-meet-greet/
LOCATION:Strand Farm\, 8525 W Hawthorne Rd\, Mequon\, 53097\, United States
CATEGORIES:Bible Study & Small Groups,Trinity Events,Youth
ATTACH;FMTTYPE=image/png:https://trinitymequon.org/wp-content/uploads/2025/08/Youth-Group.png
ORGANIZER;CN="Youth Group":MAILTO:dreh@trinityfreistadt.com
END:VEVENT
BEGIN:VEVENT
DTSTART;VALUE=DATE:20250907
DTEND;VALUE=DATE:20250908
DTSTAMP:20260422T164829
CREATED:20250605T185225Z
LAST-MODIFIED:20250605T190344Z
UID:10004774-1757203200-1757289599@trinitymequon.org
SUMMARY:Strong Start Sunday
DESCRIPTION:
URL:https://trinitymequon.org/event/strong-start-sunday/
LOCATION:Trinity Lutheran Freistadt\, 10729 West Freistadt Road\, Mequon\, WI\, 53097\, United States
CATEGORIES:Bible Study & Small Groups,Trinity Events
ATTACH;FMTTYPE=image/png:https://trinitymequon.org/wp-content/uploads/2025/06/Strong-Start-Feature-640x360-1.png
END:VEVENT
BEGIN:VEVENT
DTSTART;VALUE=DATE:20250827
DTEND;VALUE=DATE:20250828
DTSTAMP:20260422T164829
CREATED:20250605T183038Z
LAST-MODIFIED:20250605T183038Z
UID:10004647-1756252800-1756339199@trinitymequon.org
SUMMARY:Student Picture Day
DESCRIPTION:
URL:https://trinitymequon.org/event/student-picture-day/
LOCATION:Trinity Lutheran Freistadt\, 10729 West Freistadt Road\, Mequon\, WI\, 53097\, United States
CATEGORIES:Trinity Events
END:VEVENT
BEGIN:VEVENT
DTSTART;TZID=America/Chicago:20250820T075000
DTEND;TZID=America/Chicago:20250820T150500
DTSTAMP:20260422T164829
CREATED:20250605T182811Z
LAST-MODIFIED:20250605T183521Z
UID:10004645-1755676200-1755702300@trinitymequon.org
SUMMARY:First Day of School
DESCRIPTION:
URL:https://trinitymequon.org/event/first-day-of-school/
LOCATION:Trinity Lutheran Freistadt\, 10729 West Freistadt Road\, Mequon\, WI\, 53097\, United States
CATEGORIES:Trinity Events
ATTACH;FMTTYPE=image/png:https://trinitymequon.org/wp-content/uploads/2025/06/1st-day-Feature-640x360-1.png
END:VEVENT
BEGIN:VEVENT
DTSTART;TZID=America/Chicago:20250819T170000
DTEND;TZID=America/Chicago:20250819T180000
DTSTAMP:20260422T164829
CREATED:20250605T182227Z
LAST-MODIFIED:20250805T144131Z
UID:10004641-1755622800-1755626400@trinitymequon.org
SUMMARY:Middle School Back-to-School Orientation
DESCRIPTION:Join us to meet your child’s teachers\, see the classrooms\, drop off school supplies\, and learn from teachers and administrators what to expect for a strong start to the school year!\nAn instrument demonstration for new band students precedes this orientation at 4:00 pm. \n🎼 Middle School (5th–8th)📅 Tuesday\, August 19🕔 5:00–6:00p \n🖍️ Bring school supplies📚 Find the classrooms/lockers💬 Office staff and administrators will be available to answer questions \n🕠 5:30 –📅 Student schedule review in homerooms with teachers🏫 Parent orientation to middle school in the gym with administrators👨‍👩‍👧‍👦 Parents return to homerooms to pick up students \n🎺 Bonus!🎷 Join Mrs. Krueger at 4:00p in the Gathering Room if your child is new to Trinity’s band program and considering an instrument rental. \nIf your family is unable to attend the scheduled orientation\, please plan to bring school supplies on the first day of school.
URL:https://trinitymequon.org/event/middle-school-back-to-school-orientation/
LOCATION:Trinity Lutheran Freistadt\, 10729 West Freistadt Road\, Mequon\, WI\, 53097\, United States
CATEGORIES:Trinity Events
ATTACH;FMTTYPE=image/png:https://trinitymequon.org/wp-content/uploads/2025/06/B2S-MS-Feature-640x360-1.png
END:VEVENT
BEGIN:VEVENT
DTSTART;TZID=America/Chicago:20250819T103000
DTEND;TZID=America/Chicago:20250819T120000
DTSTAMP:20260422T164829
CREATED:20250714T204023Z
LAST-MODIFIED:20250715T131812Z
UID:10004990-1755599400-1755604800@trinitymequon.org
SUMMARY:Honey Farm Field Trip
DESCRIPTION:The LWML invites you to join us for a sweet summer outing to Indian Summer Honey Farm on Tuesday\, August 19 at 10:30 AM. The farm is located at N128W12930 Highland Rd in Germantown\, and all are welcome! This fun and educational field trip is a great chance to enjoy fellowship and learn how honey is made. If you’d like to purchase honey\, cash\, check\, and cards are accepted\, and you’re welcome to bring your own jars. RSVP below—no payment needed in advance\, we just need a head count. \nFor more details about the farm\, visit Indian Summer Honey Farm Tours. \nIf you have questions\, please contact Lorrie Riemer 262-512-0094. \nDon’t miss this bee-autiful opportunity!
URL:https://trinitymequon.org/event/honey-farm-field-trip/
LOCATION:Indian Summer Honey Farm\, N128W12930 Highland Rd.\, Germantown\, 53022\, United States
CATEGORIES:Trinity Events
ORGANIZER;CN="LWML":MAILTO:gaylaboehlke25@gmail.com
END:VEVENT
BEGIN:VEVENT
DTSTART;TZID=America/Chicago:20250818T170000
DTEND;TZID=America/Chicago:20250818T180000
DTSTAMP:20260422T164829
CREATED:20250605T182016Z
LAST-MODIFIED:20250805T143743Z
UID:10004640-1755536400-1755540000@trinitymequon.org
SUMMARY:Primary Back-to-School Orientation (1st-4th)
DESCRIPTION:Join us to meet your child’s teacher\, see the classroom\, drop off school supplies\, and learn from teachers and administrators what to expect for a strong start to the school year! After the orientation\, students and families are invited to fellowship time with popsicles on the playground sponsored by Stronger Families. \n📚 Primary (1st–4th)📅 Monday\, August 18🕔 5:00–6:00p \n🖍️ Bring school supplies🧭 Find the classrooms\, desks\, coat hooks/lockers\, etc.💬 Office staff and administrators will be available to answer questions \n🕠 5:30 – Parent orientations in classrooms with teachers👨‍👩‍👧‍👦 Families can keep children in the classroom🎶 Or drop them off in the gym for a sing-along/mini assembly led by administrators \n🎉 Bonus!🍧 Join us for popsicles and fellowship on the playground at 6:00p\, sponsored by Stronger Families. \nIf your family is unable to attend the scheduled orientation\, please plan to bring school supplies on the first day of school.
URL:https://trinitymequon.org/event/primary-back-to-school-orientation/
LOCATION:Trinity Lutheran Freistadt\, 10729 West Freistadt Road\, Mequon\, WI\, 53097\, United States
CATEGORIES:Trinity Events
ATTACH;FMTTYPE=image/png:https://trinitymequon.org/wp-content/uploads/2025/06/B2S-Primary-Feature-640x360-1.png
END:VEVENT
BEGIN:VEVENT
DTSTART;TZID=America/Chicago:20250817T113000
DTEND;TZID=America/Chicago:20250817T130000
DTSTAMP:20260422T164829
CREATED:20250605T181922Z
LAST-MODIFIED:20250805T151657Z
UID:10004639-1755430200-1755435600@trinitymequon.org
SUMMARY:ELC Back-to-School Orientation (3K\, 4K\, 5K)
DESCRIPTION:Join us to meet your child’s teacher\, see the classroom\, drop off school supplies\, and learn from teachers and administrators what to expect for a strong start to the school year! \nOur outdoor\, opening worship service for the school year precedes this orientation at 10:00 am. Bring your lawn chair or blanket. The Freistadt Historical Society will host and ice cream social and picnic after the service at the Historical Grounds. Cash only. \n\n🎒 Back-to-School Orientations\n\n\n \n\n\nEarly Childhood (3K\, 4K\, 5K)\n\n\n📅 Sunday\, August 17\n\n\n🕦 11:30a–1:00p\n\n\n🏫 Open house style\n\n\n \n\n\n🖍️ Bring school supplies\,\n\n\n🔎 Find the classrooms/cubbies\,\n\n\n👩‍🏫 Check in individually with your child’s teacher.\n\n\n💬 Office staff and administrators will be available to answer questions.\n\n\n \n\n\n🎁 Bonus!\n\n\n⛪ Join us for the outdoor opening worship service at 10:00a\n\n\n🏛️ Tour Trinity’s historic grounds\n\n\n🍔🍦 Lunch & ice cream available (cash only)\n\n\nIf your family is unable to attend the scheduled orientation\, please plan to bring school supplies on the first day of school.
URL:https://trinitymequon.org/event/elc-back-to-school-orientation/
LOCATION:Trinity Lutheran Freistadt\, 10729 West Freistadt Road\, Mequon\, WI\, 53097\, United States
CATEGORIES:Trinity Events
ATTACH;FMTTYPE=image/png:https://trinitymequon.org/wp-content/uploads/2025/06/B2S-ELC-Feature-640x360-1.png
END:VEVENT
BEGIN:VEVENT
DTSTART;TZID=America/Chicago:20250817T110000
DTEND;TZID=America/Chicago:20250817T150000
DTSTAMP:20260422T164829
CREATED:20250731T170446Z
LAST-MODIFIED:20250814T171104Z
UID:10005006-1755428400-1755442800@trinitymequon.org
SUMMARY:Ice Cream Social and Picnic on the Grounds
DESCRIPTION:All 12 Historical buildings will be open to tour\, including the Blacksmith Shop and Log Cabin. Visitors are welcome to bring a picnic\, buy sandwiches on the grounds\, enjoy the ice cream sundaes they purchase\, or just enjoy fellowship after church! \nSPECIAL SCHOOL SUPPLY DRIVE: Benediction Lutheran Church on Fond du Lac Ave. in Milwaukee lost 60 backpacks filled with school supplies for needy children in last weekend’s floods. We will have a special collection of items and/or cash to help them resupply these essential items. If you can help\, requested items include crayons (24)\, washable markers\, wide lined paper\, spiral notebooks\, erasers\, pens\, pencils\, folders\, and black dry erase markers – or cash.
URL:https://trinitymequon.org/event/ice-cream-social-and-picnic-on-the-grounds/
LOCATION:Trinity Lutheran Freistadt\, 10729 West Freistadt Road\, Mequon\, WI\, 53097\, United States
CATEGORIES:Trinity Events
ATTACH;FMTTYPE=image/png:https://trinitymequon.org/wp-content/uploads/2023/08/Ice-Cream-Social.png
ORGANIZER;CN="Freistadt Historical Society":MAILTO:historical@trinityfreistadt.com
END:VEVENT
BEGIN:VEVENT
DTSTART;TZID=America/Chicago:20250817T100000
DTEND;TZID=America/Chicago:20250817T110000
DTSTAMP:20260422T164829
CREATED:20250605T183505Z
LAST-MODIFIED:20250605T183505Z
UID:10004359-1755424800-1755428400@trinitymequon.org
SUMMARY:Summer Outdoor Worship | School Kick-Off Service
DESCRIPTION:
URL:https://trinitymequon.org/event/summer-outdoor-worship-2/
LOCATION:Trinity Lutheran Freistadt\, 10729 West Freistadt Road\, Mequon\, WI\, 53097\, United States
CATEGORIES:Trinity Events,Worship
ATTACH;FMTTYPE=image/png:https://trinitymequon.org/wp-content/uploads/2025/06/Outdoor-Worship-Feature-640-360.png
END:VEVENT
BEGIN:VEVENT
DTSTART;VALUE=DATE:20250809
DTEND;VALUE=DATE:20250811
DTSTAMP:20260422T164829
CREATED:20250722T200627Z
LAST-MODIFIED:20250722T200627Z
UID:10004998-1754697600-1754870399@trinitymequon.org
SUMMARY:College Student Sending
DESCRIPTION:
URL:https://trinitymequon.org/event/college-student-sending/
LOCATION:Trinity Lutheran Freistadt\, 10729 West Freistadt Road\, Mequon\, WI\, 53097\, United States
CATEGORIES:Trinity Events
ATTACH;FMTTYPE=image/png:https://trinitymequon.org/wp-content/uploads/2025/06/College-Sending-Feature-640x360-1.png
END:VEVENT
BEGIN:VEVENT
DTSTART;TZID=America/Chicago:20250807T180000
DTEND;TZID=America/Chicago:20250807T200000
DTSTAMP:20260422T164829
CREATED:20250725T135959Z
LAST-MODIFIED:20250731T183944Z
UID:10005000-1754589600-1754596800@trinitymequon.org
SUMMARY:LWML Cardmaking Event
DESCRIPTION:Join us for a heartfelt evening of creativity and care! LWML is sponsoring a FREE special Cardmaking Event to bless our church members with “thinking of you” notes. All ladies and young women who would love to make a few cards and share encouragement with our church family. This event is free\, but we do request that you register so we have enough supplies. You can register below or by contacting Gayla Boehlke at 414-630-1214/gaylaboehlke25@gmail.com. We can’t wait for a wonderful time of fellowship\, outreach\, and—of course—dessert!
URL:https://trinitymequon.org/event/lwml-cardmaking-event/
LOCATION:Trinity Lutheran Freistadt\, 10729 West Freistadt Road\, Mequon\, WI\, 53097\, United States
CATEGORIES:Trinity Events
ATTACH;FMTTYPE=image/png:https://trinitymequon.org/wp-content/uploads/2025/06/LWML-Feature-640x360-1.png
ORGANIZER;CN="LWML":MAILTO:gaylaboehlke25@gmail.com
END:VEVENT
BEGIN:VEVENT
DTSTART;VALUE=DATE:20250727
DTEND;VALUE=DATE:20250728
DTSTAMP:20260422T164829
CREATED:20250725T132712Z
LAST-MODIFIED:20250725T132712Z
UID:10004999-1753574400-1753660799@trinitymequon.org
SUMMARY:Empanada Food Truck
DESCRIPTION:On Sunday morning\, July 27\, Trinity will be hosting a food truck with empanadas for sale after each service. The truck is operated by a local Living Word High School family who are contributing proceeds of the sale to support Michelle Gillard\, a missionary with Lutheran Bible Translators whose work benefits the people of Papua New Guinea. Michelle will be here with information about LBT\, and is also making plans to present to our school students this winter. \nWe look forward to a delicious way to support her efforts to bring the scriptures into multiple languages in Papua New Guinea. This is the first of two such food truck events we will have this summer\, with the second one on August 24 (but Michelle will only be able to visit on the 27th). \nToo early for fried food? You can also purchase a pack of six fresh empanadas to bake at home for $35.
URL:https://trinitymequon.org/event/empanada-food-truck/
LOCATION:Trinity Lutheran Freistadt\, 10729 West Freistadt Road\, Mequon\, WI\, 53097\, United States
CATEGORIES:Trinity Events
ATTACH;FMTTYPE=image/png:https://trinitymequon.org/wp-content/uploads/2025/07/Faith-in-Action-Feature-640x360-1.png
END:VEVENT
BEGIN:VEVENT
DTSTART;VALUE=DATE:20250721
DTEND;VALUE=DATE:20250726
DTSTAMP:20260422T164829
CREATED:20250509T133723Z
LAST-MODIFIED:20250625T204001Z
UID:10004345-1753056000-1753487999@trinitymequon.org
SUMMARY:Inspire Christian Learning Camp
DESCRIPTION:Learn More
URL:https://trinitymequon.org/event/inspire-christian-learning-stem-camp/
LOCATION:Trinity Lutheran Freistadt\, 10729 West Freistadt Road\, Mequon\, WI\, 53097\, United States
CATEGORIES:Trinity Events
ATTACH;FMTTYPE=image/png:https://trinitymequon.org/wp-content/uploads/2025/05/ICL-Feature.png
END:VEVENT
BEGIN:VEVENT
DTSTART;TZID=America/Chicago:20250603T073000
DTEND;TZID=America/Chicago:20250603T083000
DTSTAMP:20260422T164829
CREATED:20250605T174656Z
LAST-MODIFIED:20250605T174656Z
UID:10004584-1748935800-1748939400@trinitymequon.org
SUMMARY:Bible Study
DESCRIPTION:
URL:https://trinitymequon.org/event/bible-study/
LOCATION:Trinity Lutheran Freistadt\, 10729 West Freistadt Road\, Mequon\, WI\, 53097\, United States
CATEGORIES:Bible Study & Small Groups,Trinity Events
ATTACH;FMTTYPE=image/png:https://trinitymequon.org/wp-content/uploads/2025/06/Bible-Study-Feature-640x360-1.png
END:VEVENT
END:VCALENDAR