BEGIN:VCALENDAR
VERSION:2.0
PRODID:-//Trinity Lutheran Church, School &amp; Childcare of Freistadt - ECPv6.15.20//NONSGML v1.0//EN
CALSCALE:GREGORIAN
METHOD:PUBLISH
X-ORIGINAL-URL:https://trinitymequon.org
X-WR-CALDESC:Events for Trinity Lutheran Church, School &amp; Childcare of Freistadt
REFRESH-INTERVAL;VALUE=DURATION:PT1H
X-Robots-Tag:noindex
X-PUBLISHED-TTL:PT1H
BEGIN:VTIMEZONE
TZID:America/Chicago
BEGIN:DAYLIGHT
TZOFFSETFROM:-0600
TZOFFSETTO:-0500
TZNAME:CDT
DTSTART:20240310T080000
END:DAYLIGHT
BEGIN:STANDARD
TZOFFSETFROM:-0500
TZOFFSETTO:-0600
TZNAME:CST
DTSTART:20241103T070000
END:STANDARD
BEGIN:DAYLIGHT
TZOFFSETFROM:-0600
TZOFFSETTO:-0500
TZNAME:CDT
DTSTART:20250309T080000
END:DAYLIGHT
BEGIN:STANDARD
TZOFFSETFROM:-0500
TZOFFSETTO:-0600
TZNAME:CST
DTSTART:20251102T070000
END:STANDARD
BEGIN:DAYLIGHT
TZOFFSETFROM:-0600
TZOFFSETTO:-0500
TZNAME:CDT
DTSTART:20260308T080000
END:DAYLIGHT
BEGIN:STANDARD
TZOFFSETFROM:-0500
TZOFFSETTO:-0600
TZNAME:CST
DTSTART:20261101T070000
END:STANDARD
BEGIN:DAYLIGHT
TZOFFSETFROM:-0600
TZOFFSETTO:-0500
TZNAME:CDT
DTSTART:20270314T080000
END:DAYLIGHT
BEGIN:STANDARD
TZOFFSETFROM:-0500
TZOFFSETTO:-0600
TZNAME:CST
DTSTART:20271107T070000
END:STANDARD
END:VTIMEZONE
BEGIN:VEVENT
DTSTART;TZID=America/Chicago:20251201T153000
DTEND;TZID=America/Chicago:20251201T163000
DTSTAMP:20260420T005620
CREATED:20250605T194129Z
LAST-MODIFIED:20250908T142624Z
UID:10005163-1764603000-1764606600@trinitymequon.org
SUMMARY:Piano Recital
DESCRIPTION:
URL:https://trinitymequon.org/event/piano-recital/2025-12-01/
LOCATION:Trinity Lutheran Freistadt\, 10729 West Freistadt Road\, Mequon\, WI\, 53097\, United States
CATEGORIES:Performance,Trinity Events
ATTACH;FMTTYPE=image/png:https://trinitymequon.org/wp-content/uploads/2025/06/Recital-Feature-640x360-1.png
END:VEVENT
BEGIN:VEVENT
DTSTART;TZID=America/Chicago:20251202T073000
DTEND;TZID=America/Chicago:20251202T083000
DTSTAMP:20260420T005620
CREATED:20250605T180239Z
LAST-MODIFIED:20250905T205859Z
UID:10004611-1764660600-1764664200@trinitymequon.org
SUMMARY:Stuff They Didn't Teach You in Sunday School
DESCRIPTION:Ready to get behind the scenes on those great stories you heard as a kid but wondered about as an adult? Well\, wonder no longer. Fred has been leading this video-based study called “Stuff They Didn’t Teach Me in Sunday School” for several years now\, and the episodes just keep coming! Watch and listen as Bruce Wurdeman drives his way through Scripture and comes up with stuff even a Hebrew scholar would enjoy. \nEach week features a separate Bible story\, so even if you miss a week here and there\, you can jump in and out without feeling like you’re behind. Fred’s study is for both men and women and for all ages.
URL:https://trinitymequon.org/event/bible-study-2/2025-12-02/
LOCATION:Trinity Lutheran Freistadt\, 10729 West Freistadt Road\, Mequon\, WI\, 53097\, United States
CATEGORIES:Bible Study & Small Groups,Trinity Events
ATTACH;FMTTYPE=image/png:https://trinitymequon.org/wp-content/uploads/2025/06/Bible-Study-Feature-640x360-1.png
END:VEVENT
BEGIN:VEVENT
DTSTART;TZID=America/Chicago:20251203T163000
DTEND;TZID=America/Chicago:20251203T173000
DTSTAMP:20260420T005620
CREATED:20250605T194510Z
LAST-MODIFIED:20250605T194510Z
UID:10004867-1764779400-1764783000@trinitymequon.org
SUMMARY:Advent Worship
DESCRIPTION:
URL:https://trinitymequon.org/event/advent-worship/2025-12-03/
LOCATION:Trinity Lutheran Freistadt\, 10729 West Freistadt Road\, Mequon\, WI\, 53097\, United States
CATEGORIES:Trinity Events,Worship
ATTACH;FMTTYPE=image/png:https://trinitymequon.org/wp-content/uploads/2025/06/Advent-Worship-Feature-640-360.png
END:VEVENT
BEGIN:VEVENT
DTSTART;TZID=America/Chicago:20251203T183000
DTEND;TZID=America/Chicago:20251203T203000
DTSTAMP:20260420T005620
CREATED:20251010T141407Z
LAST-MODIFIED:20251120T205640Z
UID:10005205-1764786600-1764793800@trinitymequon.org
SUMMARY:Stronger Families Meeting
DESCRIPTION:Trinity’s Stronger Families works to support each home with a Biblical foundation centered on the love of Jesus and the love of family by teaching our parents and children Christian values for a life of service to one another\, their community\, and the world. We enrich our school by joining in the mission to open our doors to all of God’s children by partnering with staff to make Trinity’s educational experience the best possible. And we work to expand Trinity’s mission by creating disciples that make disciples to go out into the world with the purpose of furthering God’s Kingdom. \nEveryone is welcome to attend our meetings.
URL:https://trinitymequon.org/event/stronger-families-meeting-2/
LOCATION:Trinity Lutheran Freistadt\, 10729 West Freistadt Road\, Mequon\, WI\, 53097\, United States
CATEGORIES:PTL,Trinity Events
ATTACH;FMTTYPE=image/png:https://trinitymequon.org/wp-content/uploads/2025/10/Stronger-Families-Feature-640x360-2.png
END:VEVENT
BEGIN:VEVENT
DTSTART;TZID=America/Chicago:20251204T174500
DTEND;TZID=America/Chicago:20251204T184500
DTSTAMP:20260420T005620
CREATED:20250605T184336Z
LAST-MODIFIED:20250605T184915Z
UID:10004722-1764870300-1764873900@trinitymequon.org
SUMMARY:Adults Bells
DESCRIPTION:
URL:https://trinitymequon.org/event/adults-bells/2025-12-04/
LOCATION:Trinity Lutheran Freistadt\, 10729 West Freistadt Road\, Mequon\, WI\, 53097\, United States
CATEGORIES:Trinity Events
ATTACH;FMTTYPE=image/png:https://trinitymequon.org/wp-content/uploads/2025/06/Handbells-Feature-640x360-1.png
END:VEVENT
BEGIN:VEVENT
DTSTART;TZID=America/Chicago:20251204T190000
DTEND;TZID=America/Chicago:20251204T203000
DTSTAMP:20260420T005620
CREATED:20250605T184837Z
LAST-MODIFIED:20250605T184837Z
UID:10004753-1764874800-1764880200@trinitymequon.org
SUMMARY:Mixed Choir
DESCRIPTION:
URL:https://trinitymequon.org/event/mixed-choir/2025-12-04/
LOCATION:Trinity Lutheran Freistadt\, 10729 West Freistadt Road\, Mequon\, WI\, 53097\, United States
CATEGORIES:Trinity Events
ATTACH;FMTTYPE=image/png:https://trinitymequon.org/wp-content/uploads/2025/06/Choir-Feature-640x360-1.png
END:VEVENT
BEGIN:VEVENT
DTSTART;TZID=America/Chicago:20251205T073000
DTEND;TZID=America/Chicago:20251205T203000
DTSTAMP:20260420T005620
CREATED:20251112T135339Z
LAST-MODIFIED:20251112T135339Z
UID:10005235-1764919800-1764966600@trinitymequon.org
SUMMARY:Prayer Group
DESCRIPTION:Join us for a time of intentional prayer and fellowship! We meet Fridays from 7:30–8:30 am at the Ministry House. We are praying through the Names of God and lifting up our church\, school\, and childcare ministries. \nDo you have a passion for prayer? Want to grow deeper with God and make new friends? All are welcome to join. Come\, be part of this growing community of prayer! \nJust show up or contact the office to get involved.
URL:https://trinitymequon.org/event/prayer-group/2025-12-05/
LOCATION:Trinity Lutheran Freistadt\, 10729 West Freistadt Road\, Mequon\, WI\, 53097\, United States
CATEGORIES:Bible Study & Small Groups,Trinity Events
ATTACH;FMTTYPE=image/png:https://trinitymequon.org/wp-content/uploads/2025/11/Prayer-Group-Feature-640x360-1.png
END:VEVENT
BEGIN:VEVENT
DTSTART;TZID=America/Chicago:20251205T083000
DTEND;TZID=America/Chicago:20251205T100000
DTSTAMP:20260420T005620
CREATED:20250905T210557Z
LAST-MODIFIED:20251031T184928Z
UID:10005141-1764923400-1764928800@trinitymequon.org
SUMMARY:Women's Bible Study
DESCRIPTION:Join our Friday morning women’s group in their continued study of the scriptures. \nOur Friday study is a relaxed\, no pressure group that is great for busy moms.
URL:https://trinitymequon.org/event/womens-bible-study-3/2025-12-05/
LOCATION:Trinity Lutheran Freistadt\, 10729 West Freistadt Road\, Mequon\, WI\, 53097\, United States
CATEGORIES:Bible Study & Small Groups,Trinity Events
ATTACH;FMTTYPE=image/png:https://trinitymequon.org/wp-content/uploads/2025/09/Womens-Bible-Study-Feature-640x360-1.png
END:VEVENT
BEGIN:VEVENT
DTSTART;TZID=America/Chicago:20251206T070000
DTEND;TZID=America/Chicago:20251206T080000
DTSTAMP:20260420T005620
CREATED:20250605T173632Z
LAST-MODIFIED:20250905T210713Z
UID:10004494-1765004400-1765008000@trinitymequon.org
SUMMARY:Men's Bible Study
DESCRIPTION:Join our Saturday morning men’s group in their continued study of the scriptures. \nOur Saturday study is a relaxed\, no pressure group. No need to sign up – just show up!
URL:https://trinitymequon.org/event/mens-bible-study/2025-12-06/
LOCATION:Trinity Lutheran Freistadt\, 10729 West Freistadt Road\, Mequon\, WI\, 53097\, United States
CATEGORIES:Bible Study & Small Groups,Trinity Events
ATTACH;FMTTYPE=image/png:https://trinitymequon.org/wp-content/uploads/2025/06/Bible-Study-Feature-640x360-1.png
END:VEVENT
BEGIN:VEVENT
DTSTART;TZID=America/Chicago:20251206T170000
DTEND;TZID=America/Chicago:20251206T180000
DTSTAMP:20260420T005620
CREATED:20251031T183639Z
LAST-MODIFIED:20251031T183639Z
UID:10003197-1765040400-1765044000@trinitymequon.org
SUMMARY:Worship | Saturday 5:00 pm | Adult Choir & Bells Carol Service
DESCRIPTION:
URL:https://trinitymequon.org/event/worship-saturday-500-pm-4/
LOCATION:Trinity Lutheran Freistadt\, 10729 West Freistadt Road\, Mequon\, WI\, 53097\, United States
CATEGORIES:Trinity Events,Worship
ATTACH;FMTTYPE=image/png:https://trinitymequon.org/wp-content/uploads/2025/06/Sanctuary-Worship-Feature-640-360.png
END:VEVENT
BEGIN:VEVENT
DTSTART;TZID=America/Chicago:20251207T080000
DTEND;TZID=America/Chicago:20251207T090000
DTSTAMP:20260420T005620
CREATED:20240711T185223Z
LAST-MODIFIED:20260410T204044Z
UID:10002983-1765094400-1765098000@trinitymequon.org
SUMMARY:Worship | Sunday 8:00 am
DESCRIPTION:
URL:https://trinitymequon.org/event/worship-sunday-800-am/2025-12-07/
LOCATION:Trinity Lutheran Freistadt\, 10729 West Freistadt Road\, Mequon\, WI\, 53097\, United States
CATEGORIES:Trinity Events,Worship
ATTACH;FMTTYPE=image/png:https://trinitymequon.org/wp-content/uploads/2025/06/Sanctuary-Worship-Feature-640-360.png
END:VEVENT
BEGIN:VEVENT
DTSTART;TZID=America/Chicago:20251207T100000
DTEND;TZID=America/Chicago:20251207T110000
DTSTAMP:20260420T005620
CREATED:20250605T194721Z
LAST-MODIFIED:20250605T194721Z
UID:10004870-1765101600-1765105200@trinitymequon.org
SUMMARY:2nd - 4th Grade Christmas Service
DESCRIPTION:
URL:https://trinitymequon.org/event/2nd-4th-grade-christmas-service/
LOCATION:Trinity Lutheran Freistadt\, 10729 West Freistadt Road\, Mequon\, WI\, 53097\, United States
CATEGORIES:Performance,Trinity Events,Worship
ATTACH;FMTTYPE=image/png:https://trinitymequon.org/wp-content/uploads/2025/06/Student-Worship-Feature-640-360.png
END:VEVENT
BEGIN:VEVENT
DTSTART;TZID=America/Chicago:20251207T183000
DTEND;TZID=America/Chicago:20251207T200000
DTSTAMP:20260420T005620
CREATED:20250807T173948Z
LAST-MODIFIED:20251031T184242Z
UID:10005218-1765132200-1765137600@trinitymequon.org
SUMMARY:Youth Group Meeting
DESCRIPTION:
URL:https://trinitymequon.org/event/youth-group-meeting/2025-12-07/
LOCATION:Trinity Lutheran Freistadt\, 10729 West Freistadt Road\, Mequon\, WI\, 53097\, United States
CATEGORIES:Bible Study & Small Groups,Trinity Events,Youth
ATTACH;FMTTYPE=image/png:https://trinitymequon.org/wp-content/uploads/2025/08/Combined-Youth-Group640x360.png
END:VEVENT
BEGIN:VEVENT
DTSTART;TZID=America/Chicago:20251209T180000
DTEND;TZID=America/Chicago:20251209T210000
DTSTAMP:20260420T005620
CREATED:20250605T151133Z
LAST-MODIFIED:20250710T133857Z
UID:10004467-1765303200-1765314000@trinitymequon.org
SUMMARY:Board of Lay Leaders Meeting
DESCRIPTION:
URL:https://trinitymequon.org/event/board-of-lay-leaders-meeting/2025-12-09/
LOCATION:Trinity Lutheran Freistadt\, 10729 West Freistadt Road\, Mequon\, WI\, 53097\, United States
CATEGORIES:Trinity Events
ATTACH;FMTTYPE=image/png:https://trinitymequon.org/wp-content/uploads/2025/06/BLL-Feature-640x360-1.png
END:VEVENT
BEGIN:VEVENT
DTSTART;VALUE=DATE:20251213
DTEND;VALUE=DATE:20251215
DTSTAMP:20260420T005620
CREATED:20251121T145341Z
LAST-MODIFIED:20251121T145341Z
UID:10005495-1765584000-1765756799@trinitymequon.org
SUMMARY:LWML Christmas Cookie Sale
DESCRIPTION:LWML invites all bakers to support our mission by baking some Christmas cookies for our annual sale. \nCookies should be dropped off in the Gathering Room Saturday\, December 13 between 9 & 11 am. We invite volunteers to stay and help us pack. \nCookies will be sold after all services December 13 & 14.
URL:https://trinitymequon.org/event/lwml-christmas-cookie-sale-2/
LOCATION:Trinity Lutheran Freistadt\, 10729 West Freistadt Road\, Mequon\, WI\, 53097\, United States
CATEGORIES:Trinity Events
ORGANIZER;CN="LWML":MAILTO:gaylaboehlke25@gmail.com
END:VEVENT
BEGIN:VEVENT
DTSTART;TZID=America/Chicago:20251214T100000
DTEND;TZID=America/Chicago:20251214T110000
DTSTAMP:20260420T005620
CREATED:20250605T194826Z
LAST-MODIFIED:20250605T194826Z
UID:10004871-1765706400-1765710000@trinitymequon.org
SUMMARY:5K & 1st Grade Christmas Service
DESCRIPTION:
URL:https://trinitymequon.org/event/5k-1st-grade-christmas-service/
LOCATION:Trinity Lutheran Freistadt\, 10729 West Freistadt Road\, Mequon\, WI\, 53097\, United States
CATEGORIES:Performance,Trinity Events,Worship
ATTACH;FMTTYPE=image/png:https://trinitymequon.org/wp-content/uploads/2025/06/Student-Worship-Feature-640-360.png
END:VEVENT
BEGIN:VEVENT
DTSTART;TZID=America/Chicago:20251214T111500
DTEND;TZID=America/Chicago:20251214T133000
DTSTAMP:20260420T005620
CREATED:20250605T195219Z
LAST-MODIFIED:20251128T151501Z
UID:10004873-1765710900-1765719000@trinitymequon.org
SUMMARY:Caroling for the Homebound
DESCRIPTION:We’re caroling for our homebound on Sunday\, December 14\, from 11:15 am to 1:30 pm. \nThis event is for families of all sizes and individuals of all ages. Meet in the Gathering Room immediately following the 10 am children’s service—pizza will be provided. We will travel to the homes and residential facilities of Trinity’s homebound members to share the joy of the Christmas season through familiar and well-loved carols. \nInvite friends to join us\, and be sure to sign up online or in the Gathering Room.
URL:https://trinitymequon.org/event/caroling-for-the-homebound/
LOCATION:Trinity Lutheran Freistadt\, 10729 West Freistadt Road\, Mequon\, WI\, 53097\, United States
CATEGORIES:Trinity Events
ATTACH;FMTTYPE=image/png:https://trinitymequon.org/wp-content/uploads/2025/06/Caroling-Feature-640x360-1.png
ORGANIZER;CN="Carl Lehenbauer":MAILTO:clehenbauer@trinityfreistadt.com
END:VEVENT
BEGIN:VEVENT
DTSTART;TZID=America/Chicago:20251216T173000
DTEND;TZID=America/Chicago:20251216T183000
DTSTAMP:20260420T005620
CREATED:20250605T195101Z
LAST-MODIFIED:20250605T195101Z
UID:10004872-1765906200-1765909800@trinitymequon.org
SUMMARY:Middle School Ensemble Concert
DESCRIPTION:
URL:https://trinitymequon.org/event/middle-school-ensemble-concert/
LOCATION:Trinity Lutheran Freistadt\, 10729 West Freistadt Road\, Mequon\, WI\, 53097\, United States
CATEGORIES:Performance,Trinity Events
ATTACH;FMTTYPE=image/png:https://trinitymequon.org/wp-content/uploads/2025/06/Performance-Feature-640x360-1.png
END:VEVENT
BEGIN:VEVENT
DTSTART;TZID=America/Chicago:20251220T170000
DTEND;TZID=America/Chicago:20251220T180000
DTSTAMP:20260420T005620
CREATED:20250605T195339Z
LAST-MODIFIED:20250605T195339Z
UID:10004874-1766250000-1766253600@trinitymequon.org
SUMMARY:Preschool Christmas Service
DESCRIPTION:
URL:https://trinitymequon.org/event/preschool-christmas-service/
LOCATION:Trinity Lutheran Freistadt\, 10729 West Freistadt Road\, Mequon\, WI\, 53097\, United States
CATEGORIES:Performance,Trinity Events,Worship
ATTACH;FMTTYPE=image/png:https://trinitymequon.org/wp-content/uploads/2025/06/Student-Worship-Feature-640-360.png
END:VEVENT
BEGIN:VEVENT
DTSTART;VALUE=DATE:20251222
DTEND;VALUE=DATE:20251227
DTSTAMP:20260420T005620
CREATED:20250605T195505Z
LAST-MODIFIED:20250605T195505Z
UID:10004875-1766361600-1766793599@trinitymequon.org
SUMMARY:Campus Closed
DESCRIPTION:
URL:https://trinitymequon.org/event/campus-closed-3/2025-12-22/
LOCATION:Trinity Lutheran Freistadt\, 10729 West Freistadt Road\, Mequon\, WI\, 53097\, United States
CATEGORIES:Childcare Closed,No School,Trinity Events
ATTACH;FMTTYPE=image/png:https://trinitymequon.org/wp-content/uploads/2025/06/Campus-Closed-Feature-640x360-1.png
END:VEVENT
BEGIN:VEVENT
DTSTART;TZID=America/Chicago:20251224T160000
DTEND;TZID=America/Chicago:20251224T170000
DTSTAMP:20260420T005620
CREATED:20250605T195701Z
LAST-MODIFIED:20251210T193225Z
UID:10004877-1766592000-1766595600@trinitymequon.org
SUMMARY:Christmas Worship
DESCRIPTION:
URL:https://trinitymequon.org/event/christmas-worship/
LOCATION:Trinity Lutheran Freistadt\, 10729 West Freistadt Road\, Mequon\, WI\, 53097\, United States
CATEGORIES:Trinity Events,Worship
ATTACH;FMTTYPE=image/png:https://trinitymequon.org/wp-content/uploads/2025/06/Christmas-Worship-Feature-640-360.png
END:VEVENT
BEGIN:VEVENT
DTSTART;TZID=America/Chicago:20251224T190000
DTEND;TZID=America/Chicago:20251224T200000
DTSTAMP:20260420T005620
CREATED:20251210T184853Z
LAST-MODIFIED:20251210T193110Z
UID:10005505-1766602800-1766606400@trinitymequon.org
SUMMARY:Christmas Worship
DESCRIPTION:
URL:https://trinitymequon.org/event/christmas-worship-2/
LOCATION:Trinity Lutheran Freistadt\, 10729 West Freistadt Road\, Mequon\, WI\, 53097\, United States
CATEGORIES:Trinity Events,Worship
ATTACH;FMTTYPE=image/png:https://trinitymequon.org/wp-content/uploads/2025/06/Christmas-Worship-Feature-640-360.png
END:VEVENT
BEGIN:VEVENT
DTSTART;TZID=America/Chicago:20251224T210000
DTEND;TZID=America/Chicago:20251224T220000
DTSTAMP:20260420T005620
CREATED:20251210T185037Z
LAST-MODIFIED:20251210T193302Z
UID:10005506-1766610000-1766613600@trinitymequon.org
SUMMARY:Christmas Worship
DESCRIPTION:
URL:https://trinitymequon.org/event/christmas-worship-3/
LOCATION:Trinity Lutheran Freistadt\, 10729 West Freistadt Road\, Mequon\, WI\, 53097\, United States
CATEGORIES:Trinity Events,Worship
ATTACH;FMTTYPE=image/png:https://trinitymequon.org/wp-content/uploads/2025/06/Christmas-Worship-Feature-640-360.png
END:VEVENT
BEGIN:VEVENT
DTSTART;TZID=America/Chicago:20251225T093000
DTEND;TZID=America/Chicago:20251225T103000
DTSTAMP:20260420T005620
CREATED:20251210T185323Z
LAST-MODIFIED:20251210T193353Z
UID:10005507-1766655000-1766658600@trinitymequon.org
SUMMARY:Christmas Worship
DESCRIPTION:
URL:https://trinitymequon.org/event/christmas-worship-4/
LOCATION:Trinity Lutheran Freistadt\, 10729 West Freistadt Road\, Mequon\, WI\, 53097\, United States
CATEGORIES:Trinity Events,Worship
ATTACH;FMTTYPE=image/png:https://trinitymequon.org/wp-content/uploads/2025/06/Christmas-Worship-Feature-640-360.png
END:VEVENT
BEGIN:VEVENT
DTSTART;TZID=America/Chicago:20251231T183000
DTEND;TZID=America/Chicago:20251231T193000
DTSTAMP:20260420T005620
CREATED:20250605T211048Z
LAST-MODIFIED:20250605T211048Z
UID:10004932-1767205800-1767209400@trinitymequon.org
SUMMARY:New Year's Eve Worship
DESCRIPTION:
URL:https://trinitymequon.org/event/new-years-eve-worship/
LOCATION:Trinity Lutheran Freistadt\, 10729 West Freistadt Road\, Mequon\, WI\, 53097\, United States
CATEGORIES:Trinity Events,Worship
ATTACH;FMTTYPE=image/png:https://trinitymequon.org/wp-content/uploads/2025/06/New-Years-Worship-Feature-640-360.png
END:VEVENT
BEGIN:VEVENT
DTSTART;TZID=America/Chicago:20260104T093000
DTEND;TZID=America/Chicago:20260104T103000
DTSTAMP:20260420T005620
CREATED:20251223T154403Z
LAST-MODIFIED:20251223T154403Z
UID:10005511-1767519000-1767522600@trinitymequon.org
SUMMARY:Youth Group Informational Meeting and Input Session
DESCRIPTION:
URL:https://trinitymequon.org/event/youth-group-informational-meeting-and-input-session/
LOCATION:Trinity Lutheran Freistadt\, 10729 West Freistadt Road\, Mequon\, WI\, 53097\, United States
CATEGORIES:Trinity Events,Youth
ATTACH;FMTTYPE=image/png:https://trinitymequon.org/wp-content/uploads/2025/06/Youth-Group-Feature-640x360-1.png
ORGANIZER;CN="Pastor Daniel Reh":MAILTO:dreh@trinityfreistadt.com
END:VEVENT
BEGIN:VEVENT
DTSTART;TZID=America/Chicago:20260110T081500
DTEND;TZID=America/Chicago:20260110T091500
DTSTAMP:20260420T005620
CREATED:20260107T201227Z
LAST-MODIFIED:20260213T174416Z
UID:10005524-1768032900-1768036500@trinitymequon.org
SUMMARY:Women's Bible Study
DESCRIPTION:Join our Saturday morning women’s group in their continued study of the scriptures. \nOur Saturday study is a relaxed\, no pressure group that is great for busy moms.
URL:https://trinitymequon.org/event/womens-bible-study-5/2026-01-10/
LOCATION:Trinity Lutheran Freistadt\, 10729 West Freistadt Road\, Mequon\, WI\, 53097\, United States
CATEGORIES:Bible Study & Small Groups,Trinity Events
ATTACH;FMTTYPE=image/png:https://trinitymequon.org/wp-content/uploads/2025/09/Womens-Bible-Study-Feature-640x360-1.png
ORGANIZER;CN="Cindy Mollwitz":MAILTO:cmollwitz@trinityfreistadt.com
END:VEVENT
BEGIN:VEVENT
DTSTART;TZID=America/Chicago:20260110T090000
DTEND;TZID=America/Chicago:20260110T103000
DTSTAMP:20260420T005620
CREATED:20251125T191517Z
LAST-MODIFIED:20260126T162123Z
UID:10005497-1768035600-1768041000@trinitymequon.org
SUMMARY:Coffee & Conversations | "The Tech Exit"
DESCRIPTION:Join us for coffee and conversation inspired by the book “The Tech Exit” by Clare Morell. Bring your favorite mug and the book! We will discuss smartphone-free childhood and explore the how-to of analog living together. RSVP to Mollie Edwards – medwards@trinityfreistadt.com.
URL:https://trinitymequon.org/event/coffee-conversations-the-tech-exit/2026-01-10/
LOCATION:Trinity Lutheran Freistadt\, 10729 West Freistadt Road\, Mequon\, WI\, 53097\, United States
CATEGORIES:Bible Study & Small Groups,Trinity Events
ATTACH;FMTTYPE=image/png:https://trinitymequon.org/wp-content/uploads/2025/11/Coffee-Conversation.png
END:VEVENT
BEGIN:VEVENT
DTSTART;VALUE=DATE:20260116
DTEND;VALUE=DATE:20260117
DTSTAMP:20260420T005620
CREATED:20250605T195745Z
LAST-MODIFIED:20250605T195745Z
UID:10004881-1768521600-1768607999@trinitymequon.org
SUMMARY:End Q2
DESCRIPTION:
URL:https://trinitymequon.org/event/end-q2/
LOCATION:Trinity Lutheran Freistadt\, 10729 West Freistadt Road\, Mequon\, WI\, 53097\, United States
CATEGORIES:Trinity Events
END:VEVENT
BEGIN:VEVENT
DTSTART;TZID=America/Chicago:20260118T091500
DTEND;TZID=America/Chicago:20260118T103000
DTSTAMP:20260420T005620
CREATED:20251226T143930Z
LAST-MODIFIED:20251226T143930Z
UID:10005521-1768727700-1768732200@trinitymequon.org
SUMMARY:Handbell & Choir Rehearse
DESCRIPTION:
URL:https://trinitymequon.org/event/handbell-choir-rehearse/
LOCATION:Trinity Lutheran Freistadt\, 10729 West Freistadt Road\, Mequon\, WI\, 53097\, United States
CATEGORIES:Trinity Events
END:VEVENT
END:VCALENDAR