BEGIN:VCALENDAR
VERSION:2.0
PRODID:-//Trinity Lutheran Church, School &amp; Childcare of Freistadt - ECPv6.15.20//NONSGML v1.0//EN
CALSCALE:GREGORIAN
METHOD:PUBLISH
X-WR-CALNAME:Trinity Lutheran Church, School &amp; Childcare of Freistadt
X-ORIGINAL-URL:https://trinitymequon.org
X-WR-CALDESC:Events for Trinity Lutheran Church, School &amp; Childcare of Freistadt
REFRESH-INTERVAL;VALUE=DURATION:PT1H
X-Robots-Tag:noindex
X-PUBLISHED-TTL:PT1H
BEGIN:VTIMEZONE
TZID:America/Chicago
BEGIN:DAYLIGHT
TZOFFSETFROM:-0600
TZOFFSETTO:-0500
TZNAME:CDT
DTSTART:20240310T080000
END:DAYLIGHT
BEGIN:STANDARD
TZOFFSETFROM:-0500
TZOFFSETTO:-0600
TZNAME:CST
DTSTART:20241103T070000
END:STANDARD
BEGIN:DAYLIGHT
TZOFFSETFROM:-0600
TZOFFSETTO:-0500
TZNAME:CDT
DTSTART:20250309T080000
END:DAYLIGHT
BEGIN:STANDARD
TZOFFSETFROM:-0500
TZOFFSETTO:-0600
TZNAME:CST
DTSTART:20251102T070000
END:STANDARD
BEGIN:DAYLIGHT
TZOFFSETFROM:-0600
TZOFFSETTO:-0500
TZNAME:CDT
DTSTART:20260308T080000
END:DAYLIGHT
BEGIN:STANDARD
TZOFFSETFROM:-0500
TZOFFSETTO:-0600
TZNAME:CST
DTSTART:20261101T070000
END:STANDARD
END:VTIMEZONE
BEGIN:VEVENT
DTSTART;VALUE=DATE:20250927
DTEND;VALUE=DATE:20250929
DTSTAMP:20260419T234501
CREATED:20250605T190828Z
LAST-MODIFIED:20250605T190828Z
UID:10004843-1758931200-1759103999@trinitymequon.org
SUMMARY:3rd Grade Bible Presentations - All Worship Services
DESCRIPTION:
URL:https://trinitymequon.org/event/3rd-grade-bible-presentations-all-worship-services/
LOCATION:Trinity Lutheran Freistadt\, 10729 West Freistadt Road\, Mequon\, WI\, 53097\, United States
ATTACH;FMTTYPE=image/png:https://trinitymequon.org/wp-content/uploads/2025/06/3rd-Grade-Feature-640x360-1.png
END:VEVENT
BEGIN:VEVENT
DTSTART;TZID=America/Chicago:20250927T070000
DTEND;TZID=America/Chicago:20250927T080000
DTSTAMP:20260419T234501
CREATED:20250605T173632Z
LAST-MODIFIED:20250905T210713Z
UID:10004484-1758956400-1758960000@trinitymequon.org
SUMMARY:Men's Bible Study
DESCRIPTION:Join our Saturday morning men’s group in their continued study of the scriptures. \nOur Saturday study is a relaxed\, no pressure group. No need to sign up – just show up!
URL:https://trinitymequon.org/event/mens-bible-study/2025-09-27/
LOCATION:Trinity Lutheran Freistadt\, 10729 West Freistadt Road\, Mequon\, WI\, 53097\, United States
CATEGORIES:Bible Study & Small Groups,Trinity Events
ATTACH;FMTTYPE=image/png:https://trinitymequon.org/wp-content/uploads/2025/06/Bible-Study-Feature-640x360-1.png
END:VEVENT
BEGIN:VEVENT
DTSTART;TZID=America/Chicago:20250927T080000
DTEND;TZID=America/Chicago:20250927T120000
DTSTAMP:20260419T234501
CREATED:20250605T191404Z
LAST-MODIFIED:20250605T191439Z
UID:10004848-1758960000-1758974400@trinitymequon.org
SUMMARY:Apostle's Creed Confirmation Workshop - Option 1
DESCRIPTION:
URL:https://trinitymequon.org/event/apostles-creed-confirmation-workshop-option-1-2/
LOCATION:Trinity Lutheran Freistadt\, 10729 West Freistadt Road\, Mequon\, WI\, 53097\, United States
CATEGORIES:Confirmation,Trinity Events
ATTACH;FMTTYPE=image/png:https://trinitymequon.org/wp-content/uploads/2025/06/Confirmation-Workshop-Feature-640x360-1.png
END:VEVENT
BEGIN:VEVENT
DTSTART;TZID=America/Chicago:20250927T170000
DTEND;TZID=America/Chicago:20250927T180000
DTSTAMP:20260419T234501
CREATED:20240711T184444Z
LAST-MODIFIED:20250605T212258Z
UID:10003187-1758992400-1758996000@trinitymequon.org
SUMMARY:Worship | Saturday 5:00 pm
DESCRIPTION:
URL:https://trinitymequon.org/event/worship-saturday-500-pm/2025-09-27/
LOCATION:Trinity Lutheran Freistadt\, 10729 West Freistadt Road\, Mequon\, WI\, 53097\, United States
CATEGORIES:Trinity Events,Worship
ATTACH;FMTTYPE=image/png:https://trinitymequon.org/wp-content/uploads/2025/06/Sanctuary-Worship-Feature-640-360.png
END:VEVENT
BEGIN:VEVENT
DTSTART;TZID=America/Chicago:20250928T080000
DTEND;TZID=America/Chicago:20250928T090000
DTSTAMP:20260419T234501
CREATED:20240711T185223Z
LAST-MODIFIED:20260410T204044Z
UID:10002973-1759046400-1759050000@trinitymequon.org
SUMMARY:Worship | Sunday 8:00 am
DESCRIPTION:
URL:https://trinitymequon.org/event/worship-sunday-800-am/2025-09-28/
LOCATION:Trinity Lutheran Freistadt\, 10729 West Freistadt Road\, Mequon\, WI\, 53097\, United States
CATEGORIES:Trinity Events,Worship
ATTACH;FMTTYPE=image/png:https://trinitymequon.org/wp-content/uploads/2025/06/Sanctuary-Worship-Feature-640-360.png
END:VEVENT
BEGIN:VEVENT
DTSTART;TZID=America/Chicago:20250928T093000
DTEND;TZID=America/Chicago:20250928T103000
DTSTAMP:20260419T234501
CREATED:20250605T185430Z
LAST-MODIFIED:20250918T134341Z
UID:10005172-1759051800-1759055400@trinitymequon.org
SUMMARY:Sunday School
DESCRIPTION:
URL:https://trinitymequon.org/event/sunday-school/2025-09-28/
LOCATION:Trinity Lutheran Freistadt\, 10729 West Freistadt Road\, Mequon\, WI\, 53097\, United States
CATEGORIES:Bible Study & Small Groups,Trinity Events
ATTACH;FMTTYPE=image/png:https://trinitymequon.org/wp-content/uploads/2025/06/Sunday-School-Feature-640x360-1.png
END:VEVENT
BEGIN:VEVENT
DTSTART;TZID=America/Chicago:20250928T093000
DTEND;TZID=America/Chicago:20250928T103000
DTSTAMP:20260419T234501
CREATED:20250605T185713Z
LAST-MODIFIED:20250905T210010Z
UID:10005073-1759051800-1759055400@trinitymequon.org
SUMMARY:Adult Bible Study
DESCRIPTION:Pastor led Sunday Bible Study is open to all adults and students 7th grade and up. Students are encouraged to attend Bible study alongside their parents. It is held in the Gathering Room.
URL:https://trinitymequon.org/event/bibl-study/2025-09-28/
LOCATION:Trinity Lutheran Freistadt\, 10729 West Freistadt Road\, Mequon\, WI\, 53097\, United States
CATEGORIES:Bible Study & Small Groups,Trinity Events
ATTACH;FMTTYPE=image/png:https://trinitymequon.org/wp-content/uploads/2025/06/Bible-Study-Feature-640x360-1.png
END:VEVENT
BEGIN:VEVENT
DTSTART;TZID=America/Chicago:20250928T104500
DTEND;TZID=America/Chicago:20250928T114500
DTSTAMP:20260419T234501
CREATED:20250605T150010Z
LAST-MODIFIED:20250605T183203Z
UID:10004430-1759056300-1759059900@trinitymequon.org
SUMMARY:Worship | Sunday 10:45 am
DESCRIPTION:
URL:https://trinitymequon.org/event/worship-sunday-1045-am/2025-09-28/
LOCATION:Trinity Lutheran Freistadt\, 10729 West Freistadt Road\, Mequon\, WI\, 53097\, United States
CATEGORIES:Trinity Events,Worship
ATTACH;FMTTYPE=image/png:https://trinitymequon.org/wp-content/uploads/2025/06/Sanctuary-Worship-Feature-640-360.png
END:VEVENT
BEGIN:VEVENT
DTSTART;TZID=America/Chicago:20250928T104500
DTEND;TZID=America/Chicago:20250928T114500
DTSTAMP:20260419T234501
CREATED:20250606T135105Z
LAST-MODIFIED:20250606T135239Z
UID:10004957-1759056300-1759059900@trinitymequon.org
SUMMARY:Students in Worship
DESCRIPTION:Sunday\, 9/28/25 \nSunday\, 10/12/25 \nSaturday\, 11/8/25 \nSaturday\, 11/22/25 \nSunday\, 11/23/25 \nSunday\, 1/25/26 \nSaturday\, 2/21/26 \nSaturday\, 3/7/26 \nSunday\, 4/26/26 \nSunday\, 4/26/26 \n10:45 am \n10:45 am \n5:00 pm \n5:00 pm \n10:45 am \n8:00 am \n5:00 pm \n5:00 pm \n8:00 am \n10:45 am \n3rd & 4th grade \n1st & 2nd grade \nKindergarten \n3K & 4K \nConcert Choir \nKindergarten \n3rd & 4th grade \nS1st & 2nd grade \nConcert Choir \n3K & 4K
URL:https://trinitymequon.org/event/students-in-worship/2025-09-28/1/
LOCATION:Trinity Lutheran Freistadt\, 10729 West Freistadt Road\, Mequon\, WI\, 53097\, United States
CATEGORIES:Performance,Trinity Events,Worship
ATTACH;FMTTYPE=image/png:https://trinitymequon.org/wp-content/uploads/2025/06/Students-in-Worship-Feature-640x360-1.png
END:VEVENT
BEGIN:VEVENT
DTSTART;TZID=America/Chicago:20250930T073000
DTEND;TZID=America/Chicago:20250930T083000
DTSTAMP:20260419T234501
CREATED:20250605T180239Z
LAST-MODIFIED:20250905T205859Z
UID:10004602-1759217400-1759221000@trinitymequon.org
SUMMARY:Stuff They Didn't Teach You in Sunday School
DESCRIPTION:Ready to get behind the scenes on those great stories you heard as a kid but wondered about as an adult? Well\, wonder no longer. Fred has been leading this video-based study called “Stuff They Didn’t Teach Me in Sunday School” for several years now\, and the episodes just keep coming! Watch and listen as Bruce Wurdeman drives his way through Scripture and comes up with stuff even a Hebrew scholar would enjoy. \nEach week features a separate Bible story\, so even if you miss a week here and there\, you can jump in and out without feeling like you’re behind. Fred’s study is for both men and women and for all ages.
URL:https://trinitymequon.org/event/bible-study-2/2025-09-30/
LOCATION:Trinity Lutheran Freistadt\, 10729 West Freistadt Road\, Mequon\, WI\, 53097\, United States
CATEGORIES:Bible Study & Small Groups,Trinity Events
ATTACH;FMTTYPE=image/png:https://trinitymequon.org/wp-content/uploads/2025/06/Bible-Study-Feature-640x360-1.png
END:VEVENT
BEGIN:VEVENT
DTSTART;TZID=America/Chicago:20251001T080000
DTEND;TZID=America/Chicago:20251001T093000
DTSTAMP:20260419T234501
CREATED:20250905T210250Z
LAST-MODIFIED:20250905T210250Z
UID:10005103-1759305600-1759311000@trinitymequon.org
SUMMARY:Women’s Bible Study
DESCRIPTION:Join our Wednesday morning women’s group in their continued study of the scriptures. \nOur Wednesday study is a relaxed\, no pressure group that is great for busy moms. \nThis is held in the Ministry House and led by Anna Hackbarth.
URL:https://trinitymequon.org/event/womens-bible-study-2/2025-10-01/
LOCATION:Trinity Lutheran Freistadt\, 10729 West Freistadt Road\, Mequon\, WI\, 53097\, United States
CATEGORIES:Bible Study & Small Groups,Trinity Events
ATTACH;FMTTYPE=image/png:https://trinitymequon.org/wp-content/uploads/2025/09/Womens-Bible-Study-Feature-640x360-1.png
END:VEVENT
BEGIN:VEVENT
DTSTART;TZID=America/Chicago:20251002T174500
DTEND;TZID=America/Chicago:20251002T184500
DTSTAMP:20260419T234501
CREATED:20250605T184336Z
LAST-MODIFIED:20250605T184915Z
UID:10004714-1759427100-1759430700@trinitymequon.org
SUMMARY:Adults Bells
DESCRIPTION:
URL:https://trinitymequon.org/event/adults-bells/2025-10-02/
LOCATION:Trinity Lutheran Freistadt\, 10729 West Freistadt Road\, Mequon\, WI\, 53097\, United States
CATEGORIES:Trinity Events
ATTACH;FMTTYPE=image/png:https://trinitymequon.org/wp-content/uploads/2025/06/Handbells-Feature-640x360-1.png
END:VEVENT
BEGIN:VEVENT
DTSTART;TZID=America/Chicago:20251002T190000
DTEND;TZID=America/Chicago:20251002T203000
DTSTAMP:20260419T234501
CREATED:20250605T184837Z
LAST-MODIFIED:20250605T184837Z
UID:10004745-1759431600-1759437000@trinitymequon.org
SUMMARY:Mixed Choir
DESCRIPTION:
URL:https://trinitymequon.org/event/mixed-choir/2025-10-02/
LOCATION:Trinity Lutheran Freistadt\, 10729 West Freistadt Road\, Mequon\, WI\, 53097\, United States
CATEGORIES:Trinity Events
ATTACH;FMTTYPE=image/png:https://trinitymequon.org/wp-content/uploads/2025/06/Choir-Feature-640x360-1.png
END:VEVENT
BEGIN:VEVENT
DTSTART;TZID=America/Chicago:20251004T080000
DTEND;TZID=America/Chicago:20251004T123000
DTSTAMP:20260419T234501
CREATED:20250605T191356Z
LAST-MODIFIED:20250918T174609Z
UID:10004847-1759564800-1759581000@trinitymequon.org
SUMMARY:9th Grade Confirmation Workshop
DESCRIPTION:
URL:https://trinitymequon.org/event/9th-grade-confirmation-workshop-2/
LOCATION:Trinity Lutheran Freistadt\, 10729 West Freistadt Road\, Mequon\, WI\, 53097\, United States
CATEGORIES:Confirmation,Trinity Events
ATTACH;FMTTYPE=image/png:https://trinitymequon.org/wp-content/uploads/2025/06/Confirmation-Workshop-Feature-640x360-1.png
END:VEVENT
BEGIN:VEVENT
DTSTART;VALUE=DATE:20251005
DTEND;VALUE=DATE:20251006
DTSTAMP:20260419T234501
CREATED:20250716T123714Z
LAST-MODIFIED:20250716T123714Z
UID:10004991-1759622400-1759708799@trinitymequon.org
SUMMARY:LWML Sunday Recognition
DESCRIPTION:
URL:https://trinitymequon.org/event/lwml-sunday-recognition/
LOCATION:Trinity Lutheran Freistadt\, 10729 West Freistadt Road\, Mequon\, WI\, 53097\, United States
CATEGORIES:Trinity Events
ATTACH;FMTTYPE=image/png:https://trinitymequon.org/wp-content/uploads/2025/06/LWML-Feature-640x360-1.png
END:VEVENT
BEGIN:VEVENT
DTSTART;TZID=America/Chicago:20251005T183000
DTEND;TZID=America/Chicago:20251005T200000
DTSTAMP:20260419T234501
CREATED:20250807T173948Z
LAST-MODIFIED:20251031T184242Z
UID:10005214-1759689000-1759694400@trinitymequon.org
SUMMARY:Youth Group Meeting
DESCRIPTION:
URL:https://trinitymequon.org/event/youth-group-meeting/2025-10-05/
LOCATION:Trinity Lutheran Freistadt\, 10729 West Freistadt Road\, Mequon\, WI\, 53097\, United States
CATEGORIES:Bible Study & Small Groups,Trinity Events,Youth
ATTACH;FMTTYPE=image/png:https://trinitymequon.org/wp-content/uploads/2025/08/Combined-Youth-Group640x360.png
END:VEVENT
BEGIN:VEVENT
DTSTART;VALUE=DATE:20251008
DTEND;VALUE=DATE:20251009
DTSTAMP:20260419T234501
CREATED:20250605T192052Z
LAST-MODIFIED:20250605T192052Z
UID:10004849-1759881600-1759967999@trinitymequon.org
SUMMARY:Student Picture Retake Day
DESCRIPTION:
URL:https://trinitymequon.org/event/student-picture-retake-day/
LOCATION:Trinity Lutheran Freistadt\, 10729 West Freistadt Road\, Mequon\, WI\, 53097\, United States
CATEGORIES:Trinity Events
END:VEVENT
BEGIN:VEVENT
DTSTART;TZID=America/Chicago:20251008T183000
DTEND;TZID=America/Chicago:20251008T203000
DTSTAMP:20260419T234501
CREATED:20250801T130604Z
LAST-MODIFIED:20251010T170203Z
UID:10005037-1759948200-1759955400@trinitymequon.org
SUMMARY:Stronger Families Meeting
DESCRIPTION:Trinity’s Stronger Families works to support each home with a Biblical foundation centered on the love of Jesus and the love of family by teaching our parents and children Christian values for a life of service to one another\, their community\, and the world. We enrich our school by joining in the mission to open our doors to all of God’s children by partnering with staff to make Trinity’s educational experience the best possible. And we work to expand Trinity’s mission by creating disciples that make disciples to go out into the world with the purpose of furthering God’s Kingdom. \nEveryone is welcome to attend our meetings.
URL:https://trinitymequon.org/event/stronger-families-meeting/2025-10-08/
LOCATION:Trinity Lutheran Freistadt\, 10729 West Freistadt Road\, Mequon\, WI\, 53097\, United States
CATEGORIES:PTL,Trinity Events
ATTACH;FMTTYPE=image/png:https://trinitymequon.org/wp-content/uploads/2025/06/Stronger-Families-Feature-640x360-1.png
END:VEVENT
BEGIN:VEVENT
DTSTART;VALUE=DATE:20251011
DTEND;VALUE=DATE:20251013
DTSTAMP:20260419T234501
CREATED:20250716T125219Z
LAST-MODIFIED:20250919T173552Z
UID:10004992-1760140800-1760313599@trinitymequon.org
SUMMARY:LWML Mighty Mites Bake Sale
DESCRIPTION:
URL:https://trinitymequon.org/event/lwml-mighty-mites-bake-sale/
LOCATION:Trinity Lutheran Freistadt\, 10729 West Freistadt Road\, Mequon\, WI\, 53097\, United States
CATEGORIES:Trinity Events
END:VEVENT
BEGIN:VEVENT
DTSTART;TZID=America/Chicago:20251014T180000
DTEND;TZID=America/Chicago:20251014T210000
DTSTAMP:20260419T234501
CREATED:20250605T151133Z
LAST-MODIFIED:20250710T133857Z
UID:10004466-1760464800-1760475600@trinitymequon.org
SUMMARY:Board of Lay Leaders Meeting
DESCRIPTION:
URL:https://trinitymequon.org/event/board-of-lay-leaders-meeting/2025-10-14/
LOCATION:Trinity Lutheran Freistadt\, 10729 West Freistadt Road\, Mequon\, WI\, 53097\, United States
CATEGORIES:Trinity Events
ATTACH;FMTTYPE=image/png:https://trinitymequon.org/wp-content/uploads/2025/06/BLL-Feature-640x360-1.png
END:VEVENT
BEGIN:VEVENT
DTSTART;TZID=America/Chicago:20251015T180000
DTEND;TZID=America/Chicago:20251015T200000
DTSTAMP:20260419T234501
CREATED:20250605T174556Z
LAST-MODIFIED:20250605T174556Z
UID:10004576-1760551200-1760558400@trinitymequon.org
SUMMARY:Elders' Meeting
DESCRIPTION:
URL:https://trinitymequon.org/event/elders-meeting/2025-10-15/
LOCATION:Trinity Lutheran Freistadt\, 10729 West Freistadt Road\, Mequon\, WI\, 53097\, United States
CATEGORIES:Trinity Events
ATTACH;FMTTYPE=image/png:https://trinitymequon.org/wp-content/uploads/2025/06/Elders-Feature-640x360-1.png
END:VEVENT
BEGIN:VEVENT
DTSTART;VALUE=DATE:20251017
DTEND;VALUE=DATE:20251018
DTSTAMP:20260419T234501
CREATED:20250605T192314Z
LAST-MODIFIED:20250605T211554Z
UID:10004850-1760659200-1760745599@trinitymequon.org
SUMMARY:11:00 am School Early Release
DESCRIPTION:Wrap Around Care is available
URL:https://trinitymequon.org/event/1100-am-school-early-release/
LOCATION:Trinity Lutheran Freistadt\, 10729 West Freistadt Road\, Mequon\, WI\, 53097\, United States
CATEGORIES:Early Release,Trinity Events
ATTACH;FMTTYPE=image/png:https://trinitymequon.org/wp-content/uploads/2025/06/Early-Release-Feature-640x360-1.png
END:VEVENT
BEGIN:VEVENT
DTSTART;TZID=America/Chicago:20251018T170000
DTEND;TZID=America/Chicago:20251018T223000
DTSTAMP:20260419T234501
CREATED:20241024T165727Z
LAST-MODIFIED:20251006T211023Z
UID:10003669-1760806800-1760826600@trinitymequon.org
SUMMARY:Gala
DESCRIPTION:In His ImageThe Annual Trinity Gala is happening on Saturday\, October 18\, 2025! Join us for an unforgettable evening at our School & Childcare’s premier fundraising event. Arrive in your finest attire for a night of celebration\, featuring cocktails\, a gourmet dinner\, live music\, and dancing. This year’s theme promises an atmosphere of elegance and excitement\, creating memories you won’t want to miss. \nYour support will help us continue our mission to connect children to Jesus and nurture their passion for learning. All proceeds from the evening will directly benefit our School and Childcare programs\, ensuring a bright future for our students. \nFor more details or any questions\, reach out to us at gala@trinityfreistadt.com. Mark your calendars and get ready for a night of purpose and celebration! \nTickets and Sponsorships.Celebrate with us!
URL:https://trinitymequon.org/event/gala-4/
LOCATION:Trinity Lutheran Freistadt\, 10729 West Freistadt Road\, Mequon\, WI\, 53097\, United States
CATEGORIES:Trinity Events
ATTACH;FMTTYPE=image/png:https://trinitymequon.org/wp-content/uploads/2024/10/Gala-2024-Web-Event-Feature.png
END:VEVENT
BEGIN:VEVENT
DTSTART;VALUE=DATE:20251025
DTEND;VALUE=DATE:20251027
DTSTAMP:20260419T234501
CREATED:20250605T192610Z
LAST-MODIFIED:20250605T193008Z
UID:10004853-1761350400-1761523199@trinitymequon.org
SUMMARY:Confirmation Weekend | All Services
DESCRIPTION:
URL:https://trinitymequon.org/event/confirmation-weekend-all-services/
LOCATION:Trinity Lutheran Freistadt\, 10729 West Freistadt Road\, Mequon\, WI\, 53097\, United States
CATEGORIES:Confirmation,Trinity Events
ATTACH;FMTTYPE=image/png:https://trinitymequon.org/wp-content/uploads/2025/06/Confirmation-Feature-640x360-1.png
END:VEVENT
BEGIN:VEVENT
DTSTART;TZID=America/Chicago:20251025T090000
DTEND;TZID=America/Chicago:20251025T100000
DTSTAMP:20260419T234501
CREATED:20250605T205924Z
LAST-MODIFIED:20250605T205924Z
UID:10004931-1761382800-1761386400@trinitymequon.org
SUMMARY:Confirmation Pictures & Rehearsal
DESCRIPTION:
URL:https://trinitymequon.org/event/confirmation-pictures-rehearsal/
LOCATION:Trinity Lutheran Freistadt\, 10729 West Freistadt Road\, Mequon\, WI\, 53097\, United States
CATEGORIES:Confirmation,Trinity Events
END:VEVENT
BEGIN:VEVENT
DTSTART;TZID=America/Chicago:20251025T093000
DTEND;TZID=America/Chicago:20251025T110000
DTSTAMP:20260419T234501
CREATED:20250910T132906Z
LAST-MODIFIED:20250925T155311Z
UID:10005165-1761384600-1761390000@trinitymequon.org
SUMMARY:Stronger Families: Trunk-or-Treat
DESCRIPTION:
URL:https://trinitymequon.org/event/stronger-families-trunk-or-treat/
LOCATION:Trinity Lutheran Freistadt\, 10729 West Freistadt Road\, Mequon\, WI\, 53097\, United States
CATEGORIES:PTL,Trinity Events
ATTACH;FMTTYPE=image/png:https://trinitymequon.org/wp-content/uploads/2023/09/Trunk-or-Treat-1.png
ORGANIZER;CN="PTL":MAILTO:ptl@trinityfreistadt.com
END:VEVENT
BEGIN:VEVENT
DTSTART;TZID=America/Chicago:20251029T093000
DTEND;TZID=America/Chicago:20251029T110000
DTSTAMP:20260419T234501
CREATED:20250722T195346Z
LAST-MODIFIED:20250722T195450Z
UID:10004995-1761730200-1761735600@trinitymequon.org
SUMMARY:College Care Packing
DESCRIPTION:
URL:https://trinitymequon.org/event/college-care-packing/2025-10-29/
LOCATION:Trinity Lutheran Freistadt\, 10729 West Freistadt Road\, Mequon\, WI\, 53097\, United States
CATEGORIES:Trinity Events
ATTACH;FMTTYPE=image/png:https://trinitymequon.org/wp-content/uploads/2025/06/College-Care-Packs-Feature-640x360-1.png
ORGANIZER;CN="Carl Lehenbauer":MAILTO:clehenbauer@trinityfreistadt.com
END:VEVENT
BEGIN:VEVENT
DTSTART;VALUE=DATE:20251108
DTEND;VALUE=DATE:20251129
DTSTAMP:20260419T234501
CREATED:20250619T191555Z
LAST-MODIFIED:20251029T163529Z
UID:10004970-1762560000-1764374399@trinitymequon.org
SUMMARY:Thanksgiving Food Drive
DESCRIPTION:Yellow collection bags will be distributed after worship services on 11/8-9. \nOur green NEIGHBOR version of the bag will be available so that you can involve friends\, co-workers\, and neighbors. Arrange for a pick-up date/time or follow the instructions on the bag and pick them up on Sunday\, November 23 after 12 noon. We encourage you to give a green printed Thank You card with Trinity identification to everyone who contributes. Cards and extra bags will be available in the Gathering Room. \nPlace your filled bags of non-perishable food items (no glass please) in the south church entrance by Friday\, November 28. \nYour generosity and prayers make a difference in the lives of many!
URL:https://trinitymequon.org/event/thanksgiving-food-drive-3/
LOCATION:Trinity Lutheran Freistadt\, 10729 West Freistadt Road\, Mequon\, WI\, 53097\, United States
CATEGORIES:Trinity Events
ATTACH;FMTTYPE=image/png:https://trinitymequon.org/wp-content/uploads/2025/06/Food-Drive-Feature-640x360-1.png
END:VEVENT
BEGIN:VEVENT
DTSTART;TZID=America/Chicago:20251109T113000
DTEND;TZID=America/Chicago:20251109T200000
DTSTAMP:20260419T234501
CREATED:20250910T135416Z
LAST-MODIFIED:20251031T181623Z
UID:10005166-1762687800-1762718400@trinitymequon.org
SUMMARY:Stronger Families: Skippy's Dine-In Event
DESCRIPTION:
URL:https://trinitymequon.org/event/stronger-families-skippys-dine-out-night/
LOCATION:Skippys Burger Bar\, 113 Green Bay Rd\, Thiensville\, WI\, 53092
CATEGORIES:PTL,Trinity Events
ATTACH;FMTTYPE=image/png:https://trinitymequon.org/wp-content/uploads/2024/10/Skippys.png
END:VEVENT
BEGIN:VEVENT
DTSTART;TZID=America/Chicago:20251109T120000
DTEND;TZID=America/Chicago:20251109T140000
DTSTAMP:20260419T234501
CREATED:20250605T193457Z
LAST-MODIFIED:20251031T171406Z
UID:10004859-1762689600-1762696800@trinitymequon.org
SUMMARY:Congregational Meeting
DESCRIPTION:Candidates for Election: \nElders – Total Positions: 4 (Congregation elects 2 / Board of Lay Leaders (BLL) appoints 2) \n\nRyan Campbell\nBrian Forke\nFred Mollwitz\nCraig Tews\nAndy Wahl\n\n\nEndowment Committee – Total Positions: 2 (Congregation elects 1 / BLL appoints 1) \n\nLyle Alft\nErika Degner\nBill Kerner\nMike Strupp\nJim Yahr\n\n\nBoard of Lay Leaders (BLL) – Total Positions: 3 (Congregation elects 3) \n\nJohn Dobberfuhl\nJohn Saleska\nAdam Schoessow\nSuzan Schoessow\nCharlie Thon\nMichael Uden\nRhonda Weber\nTodd Weber\n\nAgenda \n \n\nOpening Prayer\nIntroduction of BLL\nApproval of minutes from the May 18\, 2025 Congregational meeting (Please refer to handout). (VOTING ACTION)\nChurch Update/Membership Changes\nSchool Update – Parent/Member Q&A\nPhase 2 Update\nCall Committee Update – Senior Pastor\nElections\nHousing Allowance\nBudget/Financial Update (see handouts)\nInformation on Pastor Reh call – Pastor Carl\nOther items/Questions\nClosing Prayer
URL:https://trinitymequon.org/event/congregational-meeting-3/
LOCATION:Trinity Lutheran Freistadt\, 10729 West Freistadt Road\, Mequon\, WI\, 53097\, United States
CATEGORIES:Trinity Events
ATTACH;FMTTYPE=image/png:https://trinitymequon.org/wp-content/uploads/2025/06/Cong-Meeting-Feature-640x360-1.png
END:VEVENT
END:VCALENDAR