BEGIN:VCALENDAR
VERSION:2.0
PRODID:-//Trinity Lutheran Church, School &amp; Childcare of Freistadt - ECPv6.15.20//NONSGML v1.0//EN
CALSCALE:GREGORIAN
METHOD:PUBLISH
X-ORIGINAL-URL:https://trinitymequon.org
X-WR-CALDESC:Events for Trinity Lutheran Church, School &amp; Childcare of Freistadt
REFRESH-INTERVAL;VALUE=DURATION:PT1H
X-Robots-Tag:noindex
X-PUBLISHED-TTL:PT1H
BEGIN:VTIMEZONE
TZID:America/Chicago
BEGIN:DAYLIGHT
TZOFFSETFROM:-0600
TZOFFSETTO:-0500
TZNAME:CDT
DTSTART:20240310T080000
END:DAYLIGHT
BEGIN:STANDARD
TZOFFSETFROM:-0500
TZOFFSETTO:-0600
TZNAME:CST
DTSTART:20241103T070000
END:STANDARD
BEGIN:DAYLIGHT
TZOFFSETFROM:-0600
TZOFFSETTO:-0500
TZNAME:CDT
DTSTART:20250309T080000
END:DAYLIGHT
BEGIN:STANDARD
TZOFFSETFROM:-0500
TZOFFSETTO:-0600
TZNAME:CST
DTSTART:20251102T070000
END:STANDARD
BEGIN:DAYLIGHT
TZOFFSETFROM:-0600
TZOFFSETTO:-0500
TZNAME:CDT
DTSTART:20260308T080000
END:DAYLIGHT
BEGIN:STANDARD
TZOFFSETFROM:-0500
TZOFFSETTO:-0600
TZNAME:CST
DTSTART:20261101T070000
END:STANDARD
BEGIN:DAYLIGHT
TZOFFSETFROM:-0600
TZOFFSETTO:-0500
TZNAME:CDT
DTSTART:20270314T080000
END:DAYLIGHT
BEGIN:STANDARD
TZOFFSETFROM:-0500
TZOFFSETTO:-0600
TZNAME:CST
DTSTART:20271107T070000
END:STANDARD
END:VTIMEZONE
BEGIN:VEVENT
DTSTART;TZID=America/Chicago:20251216T173000
DTEND;TZID=America/Chicago:20251216T183000
DTSTAMP:20260420T023233
CREATED:20250605T195101Z
LAST-MODIFIED:20250605T195101Z
UID:10004872-1765906200-1765909800@trinitymequon.org
SUMMARY:Middle School Ensemble Concert
DESCRIPTION:
URL:https://trinitymequon.org/event/middle-school-ensemble-concert/
LOCATION:Trinity Lutheran Freistadt\, 10729 West Freistadt Road\, Mequon\, WI\, 53097\, United States
CATEGORIES:Performance,Trinity Events
ATTACH;FMTTYPE=image/png:https://trinitymequon.org/wp-content/uploads/2025/06/Performance-Feature-640x360-1.png
END:VEVENT
BEGIN:VEVENT
DTSTART;TZID=America/Chicago:20251220T170000
DTEND;TZID=America/Chicago:20251220T180000
DTSTAMP:20260420T023234
CREATED:20250605T195339Z
LAST-MODIFIED:20250605T195339Z
UID:10004874-1766250000-1766253600@trinitymequon.org
SUMMARY:Preschool Christmas Service
DESCRIPTION:
URL:https://trinitymequon.org/event/preschool-christmas-service/
LOCATION:Trinity Lutheran Freistadt\, 10729 West Freistadt Road\, Mequon\, WI\, 53097\, United States
CATEGORIES:Performance,Trinity Events,Worship
ATTACH;FMTTYPE=image/png:https://trinitymequon.org/wp-content/uploads/2025/06/Student-Worship-Feature-640-360.png
END:VEVENT
BEGIN:VEVENT
DTSTART;VALUE=DATE:20251222
DTEND;VALUE=DATE:20251227
DTSTAMP:20260420T023234
CREATED:20250605T195505Z
LAST-MODIFIED:20250605T195505Z
UID:10004875-1766361600-1766793599@trinitymequon.org
SUMMARY:Campus Closed
DESCRIPTION:
URL:https://trinitymequon.org/event/campus-closed-3/2025-12-22/
LOCATION:Trinity Lutheran Freistadt\, 10729 West Freistadt Road\, Mequon\, WI\, 53097\, United States
CATEGORIES:Childcare Closed,No School,Trinity Events
ATTACH;FMTTYPE=image/png:https://trinitymequon.org/wp-content/uploads/2025/06/Campus-Closed-Feature-640x360-1.png
END:VEVENT
BEGIN:VEVENT
DTSTART;TZID=America/Chicago:20251224T160000
DTEND;TZID=America/Chicago:20251224T170000
DTSTAMP:20260420T023234
CREATED:20250605T195701Z
LAST-MODIFIED:20251210T193225Z
UID:10004877-1766592000-1766595600@trinitymequon.org
SUMMARY:Christmas Worship
DESCRIPTION:
URL:https://trinitymequon.org/event/christmas-worship/
LOCATION:Trinity Lutheran Freistadt\, 10729 West Freistadt Road\, Mequon\, WI\, 53097\, United States
CATEGORIES:Trinity Events,Worship
ATTACH;FMTTYPE=image/png:https://trinitymequon.org/wp-content/uploads/2025/06/Christmas-Worship-Feature-640-360.png
END:VEVENT
BEGIN:VEVENT
DTSTART;TZID=America/Chicago:20251224T190000
DTEND;TZID=America/Chicago:20251224T200000
DTSTAMP:20260420T023234
CREATED:20251210T184853Z
LAST-MODIFIED:20251210T193110Z
UID:10005505-1766602800-1766606400@trinitymequon.org
SUMMARY:Christmas Worship
DESCRIPTION:
URL:https://trinitymequon.org/event/christmas-worship-2/
LOCATION:Trinity Lutheran Freistadt\, 10729 West Freistadt Road\, Mequon\, WI\, 53097\, United States
CATEGORIES:Trinity Events,Worship
ATTACH;FMTTYPE=image/png:https://trinitymequon.org/wp-content/uploads/2025/06/Christmas-Worship-Feature-640-360.png
END:VEVENT
BEGIN:VEVENT
DTSTART;TZID=America/Chicago:20251224T210000
DTEND;TZID=America/Chicago:20251224T220000
DTSTAMP:20260420T023234
CREATED:20251210T185037Z
LAST-MODIFIED:20251210T193302Z
UID:10005506-1766610000-1766613600@trinitymequon.org
SUMMARY:Christmas Worship
DESCRIPTION:
URL:https://trinitymequon.org/event/christmas-worship-3/
LOCATION:Trinity Lutheran Freistadt\, 10729 West Freistadt Road\, Mequon\, WI\, 53097\, United States
CATEGORIES:Trinity Events,Worship
ATTACH;FMTTYPE=image/png:https://trinitymequon.org/wp-content/uploads/2025/06/Christmas-Worship-Feature-640-360.png
END:VEVENT
BEGIN:VEVENT
DTSTART;TZID=America/Chicago:20251225T093000
DTEND;TZID=America/Chicago:20251225T103000
DTSTAMP:20260420T023234
CREATED:20251210T185323Z
LAST-MODIFIED:20251210T193353Z
UID:10005507-1766655000-1766658600@trinitymequon.org
SUMMARY:Christmas Worship
DESCRIPTION:
URL:https://trinitymequon.org/event/christmas-worship-4/
LOCATION:Trinity Lutheran Freistadt\, 10729 West Freistadt Road\, Mequon\, WI\, 53097\, United States
CATEGORIES:Trinity Events,Worship
ATTACH;FMTTYPE=image/png:https://trinitymequon.org/wp-content/uploads/2025/06/Christmas-Worship-Feature-640-360.png
END:VEVENT
BEGIN:VEVENT
DTSTART;TZID=America/Chicago:20251231T183000
DTEND;TZID=America/Chicago:20251231T193000
DTSTAMP:20260420T023234
CREATED:20250605T211048Z
LAST-MODIFIED:20250605T211048Z
UID:10004932-1767205800-1767209400@trinitymequon.org
SUMMARY:New Year's Eve Worship
DESCRIPTION:
URL:https://trinitymequon.org/event/new-years-eve-worship/
LOCATION:Trinity Lutheran Freistadt\, 10729 West Freistadt Road\, Mequon\, WI\, 53097\, United States
CATEGORIES:Trinity Events,Worship
ATTACH;FMTTYPE=image/png:https://trinitymequon.org/wp-content/uploads/2025/06/New-Years-Worship-Feature-640-360.png
END:VEVENT
BEGIN:VEVENT
DTSTART;TZID=America/Chicago:20260104T093000
DTEND;TZID=America/Chicago:20260104T103000
DTSTAMP:20260420T023234
CREATED:20251223T154403Z
LAST-MODIFIED:20251223T154403Z
UID:10005511-1767519000-1767522600@trinitymequon.org
SUMMARY:Youth Group Informational Meeting and Input Session
DESCRIPTION:
URL:https://trinitymequon.org/event/youth-group-informational-meeting-and-input-session/
LOCATION:Trinity Lutheran Freistadt\, 10729 West Freistadt Road\, Mequon\, WI\, 53097\, United States
CATEGORIES:Trinity Events,Youth
ATTACH;FMTTYPE=image/png:https://trinitymequon.org/wp-content/uploads/2025/06/Youth-Group-Feature-640x360-1.png
ORGANIZER;CN="Pastor Daniel Reh":MAILTO:dreh@trinityfreistadt.com
END:VEVENT
BEGIN:VEVENT
DTSTART;TZID=America/Chicago:20260110T081500
DTEND;TZID=America/Chicago:20260110T091500
DTSTAMP:20260420T023234
CREATED:20260107T201227Z
LAST-MODIFIED:20260213T174416Z
UID:10005524-1768032900-1768036500@trinitymequon.org
SUMMARY:Women's Bible Study
DESCRIPTION:Join our Saturday morning women’s group in their continued study of the scriptures. \nOur Saturday study is a relaxed\, no pressure group that is great for busy moms.
URL:https://trinitymequon.org/event/womens-bible-study-5/2026-01-10/
LOCATION:Trinity Lutheran Freistadt\, 10729 West Freistadt Road\, Mequon\, WI\, 53097\, United States
CATEGORIES:Bible Study & Small Groups,Trinity Events
ATTACH;FMTTYPE=image/png:https://trinitymequon.org/wp-content/uploads/2025/09/Womens-Bible-Study-Feature-640x360-1.png
ORGANIZER;CN="Cindy Mollwitz":MAILTO:cmollwitz@trinityfreistadt.com
END:VEVENT
BEGIN:VEVENT
DTSTART;TZID=America/Chicago:20260110T090000
DTEND;TZID=America/Chicago:20260110T103000
DTSTAMP:20260420T023234
CREATED:20251125T191517Z
LAST-MODIFIED:20260126T162123Z
UID:10005497-1768035600-1768041000@trinitymequon.org
SUMMARY:Coffee & Conversations | "The Tech Exit"
DESCRIPTION:Join us for coffee and conversation inspired by the book “The Tech Exit” by Clare Morell. Bring your favorite mug and the book! We will discuss smartphone-free childhood and explore the how-to of analog living together. RSVP to Mollie Edwards – medwards@trinityfreistadt.com.
URL:https://trinitymequon.org/event/coffee-conversations-the-tech-exit/2026-01-10/
LOCATION:Trinity Lutheran Freistadt\, 10729 West Freistadt Road\, Mequon\, WI\, 53097\, United States
CATEGORIES:Bible Study & Small Groups,Trinity Events
ATTACH;FMTTYPE=image/png:https://trinitymequon.org/wp-content/uploads/2025/11/Coffee-Conversation.png
END:VEVENT
BEGIN:VEVENT
DTSTART;VALUE=DATE:20260116
DTEND;VALUE=DATE:20260117
DTSTAMP:20260420T023234
CREATED:20250605T195745Z
LAST-MODIFIED:20250605T195745Z
UID:10004881-1768521600-1768607999@trinitymequon.org
SUMMARY:End Q2
DESCRIPTION:
URL:https://trinitymequon.org/event/end-q2/
LOCATION:Trinity Lutheran Freistadt\, 10729 West Freistadt Road\, Mequon\, WI\, 53097\, United States
CATEGORIES:Trinity Events
END:VEVENT
BEGIN:VEVENT
DTSTART;TZID=America/Chicago:20260118T091500
DTEND;TZID=America/Chicago:20260118T103000
DTSTAMP:20260420T023234
CREATED:20251226T143930Z
LAST-MODIFIED:20251226T143930Z
UID:10005521-1768727700-1768732200@trinitymequon.org
SUMMARY:Handbell & Choir Rehearse
DESCRIPTION:
URL:https://trinitymequon.org/event/handbell-choir-rehearse/
LOCATION:Trinity Lutheran Freistadt\, 10729 West Freistadt Road\, Mequon\, WI\, 53097\, United States
CATEGORIES:Trinity Events
END:VEVENT
BEGIN:VEVENT
DTSTART;TZID=America/Chicago:20260118T160000
DTEND;TZID=America/Chicago:20260118T170000
DTSTAMP:20260420T023234
CREATED:20251223T172513Z
LAST-MODIFIED:20260109T190742Z
UID:10005512-1768752000-1768755600@trinitymequon.org
SUMMARY:Service of Installation for Rev. Schram
DESCRIPTION:
URL:https://trinitymequon.org/event/service-of-installation-for-rev-schram/
LOCATION:Trinity Lutheran Freistadt\, 10729 West Freistadt Road\, Mequon\, WI\, 53097\, United States
CATEGORIES:Trinity Events
ATTACH;FMTTYPE=image/png:https://trinitymequon.org/wp-content/uploads/2025/12/Schram-Install.png
END:VEVENT
BEGIN:VEVENT
DTSTART;VALUE=DATE:20260119
DTEND;VALUE=DATE:20260120
DTSTAMP:20260420T023234
CREATED:20250605T211128Z
LAST-MODIFIED:20250605T211128Z
UID:10004933-1768780800-1768867199@trinitymequon.org
SUMMARY:No School
DESCRIPTION:Wrap Around Care is available
URL:https://trinitymequon.org/event/no-school-5/
LOCATION:Trinity Lutheran Freistadt\, 10729 West Freistadt Road\, Mequon\, WI\, 53097\, United States
CATEGORIES:No School,Trinity Events
ATTACH;FMTTYPE=image/png:https://trinitymequon.org/wp-content/uploads/2025/06/No-School-Feature-640x360-1.png
END:VEVENT
BEGIN:VEVENT
DTSTART;TZID=America/Chicago:20260119T120000
DTEND;TZID=America/Chicago:20260119T143000
DTSTAMP:20260420T023234
CREATED:20251202T164433Z
LAST-MODIFIED:20251202T164433Z
UID:10005503-1768824000-1768833000@trinitymequon.org
SUMMARY:LWML Soup Luncheon
DESCRIPTION:Please join us for a soup luncheon and bible study followed by a business meeting. We will gather at Noon on Monday\, January 19. Enjoy some hot soup and warm fellowship on a cold day.
URL:https://trinitymequon.org/event/lwml-soup-luncheon/
LOCATION:Trinity Lutheran Freistadt\, 10729 West Freistadt Road\, Mequon\, WI\, 53097\, United States
CATEGORIES:Trinity Events
ATTACH;FMTTYPE=image/png:https://trinitymequon.org/wp-content/uploads/2025/06/LWML-Feature-640x360-1.png
ORGANIZER;CN="LWML":MAILTO:gaylaboehlke25@gmail.com
END:VEVENT
BEGIN:VEVENT
DTSTART;TZID=America/Chicago:20260125T120000
DTEND;TZID=America/Chicago:20260125T130000
DTSTAMP:20260420T023234
CREATED:20250605T200046Z
LAST-MODIFIED:20260123T203435Z
UID:10004883-1769342400-1769346000@trinitymequon.org
SUMMARY:Congregational Meeting
DESCRIPTION:1/25/26 Agenda\n11/9/25 Meeting Minutes\n11/30/25 Meeting Minutes
URL:https://trinitymequon.org/event/congregational-meeting-4/
LOCATION:Trinity Lutheran Freistadt\, 10729 West Freistadt Road\, Mequon\, WI\, 53097\, United States
CATEGORIES:Trinity Events
ATTACH;FMTTYPE=image/png:https://trinitymequon.org/wp-content/uploads/2025/06/Cong-Meeting-Feature-640x360-1.png
END:VEVENT
BEGIN:VEVENT
DTSTART;TZID=America/Chicago:20260127T170000
DTEND;TZID=America/Chicago:20260127T190000
DTSTAMP:20260420T023234
CREATED:20250605T200046Z
LAST-MODIFIED:20250605T211547Z
UID:10004884-1769533200-1769540400@trinitymequon.org
SUMMARY:Open House
DESCRIPTION:3K – 8th grade
URL:https://trinitymequon.org/event/open-house-2/
LOCATION:Trinity Lutheran Freistadt\, 10729 West Freistadt Road\, Mequon\, WI\, 53097\, United States
CATEGORIES:Trinity Events
ATTACH;FMTTYPE=image/png:https://trinitymequon.org/wp-content/uploads/2025/06/Open-House-Feature-640x360-1.png
END:VEVENT
BEGIN:VEVENT
DTSTART;TZID=America/Chicago:20260129T180000
DTEND;TZID=America/Chicago:20260129T203000
DTSTAMP:20260420T023234
CREATED:20260109T163245Z
LAST-MODIFIED:20260109T163245Z
UID:10005596-1769709600-1769718600@trinitymequon.org
SUMMARY:Ozaukee Skateland
DESCRIPTION:
URL:https://trinitymequon.org/event/ozaukee-skateland/
LOCATION:Trinity Lutheran Freistadt\, 10729 West Freistadt Road\, Mequon\, WI\, 53097\, United States
CATEGORIES:PTL,Trinity Events
ORGANIZER;CN="PTL":MAILTO:ptl@trinityfreistadt.com
END:VEVENT
BEGIN:VEVENT
DTSTART;VALUE=DATE:20260130
DTEND;VALUE=DATE:20260131
DTSTAMP:20260420T023234
CREATED:20250605T195841Z
LAST-MODIFIED:20250605T195841Z
UID:10004882-1769731200-1769817599@trinitymequon.org
SUMMARY:Campus Closed
DESCRIPTION:
URL:https://trinitymequon.org/event/campus-closed-4/
LOCATION:Trinity Lutheran Freistadt\, 10729 West Freistadt Road\, Mequon\, WI\, 53097\, United States
CATEGORIES:Childcare Closed,No School
ATTACH;FMTTYPE=image/png:https://trinitymequon.org/wp-content/uploads/2025/06/Campus-Closed-Feature-640x360-1.png
END:VEVENT
BEGIN:VEVENT
DTSTART;VALUE=DATE:20260130
DTEND;VALUE=DATE:20260131
DTSTAMP:20260420T023234
CREATED:20251031T190716Z
LAST-MODIFIED:20251031T190716Z
UID:10005227-1769731200-1769817599@trinitymequon.org
SUMMARY:No School or Childcare
DESCRIPTION:
URL:https://trinitymequon.org/event/no-school-or-childcare/
LOCATION:Trinity Lutheran Freistadt\, 10729 West Freistadt Road\, Mequon\, WI\, 53097\, United States
CATEGORIES:Childcare Closed,No School,Trinity Events
ATTACH;FMTTYPE=image/png:https://trinitymequon.org/wp-content/uploads/2025/06/Campus-Closed-Feature-640x360-1.png
END:VEVENT
BEGIN:VEVENT
DTSTART;VALUE=DATE:20260205
DTEND;VALUE=DATE:20260209
DTSTAMP:20260420T023234
CREATED:20250605T200253Z
LAST-MODIFIED:20260202T183345Z
UID:10004885-1770249600-1770595199@trinitymequon.org
SUMMARY:Freistadt Classic
DESCRIPTION:“Be completely humble and gentle; be patient\, bearing with one another in love.” – Ephesians 4:2BracketsAdmissionConcessionsProgramVolunteerWe need YOUR help to make the Freistadt Classic a slam dunk! \nVolunteer Opportunities \n\nAdmission: Be the welcoming face at the entrance\, ensuring everyone gets in smoothly.\nConcession Food Server: Serve up smiles with our tasty treats!\nConcession Cashier: Manage the cash register and keep the lines moving efficiently.\nUshers: Help us keep the event safe and enjoyable for everyone.\n\nVolunteer Perks: \n\nFree admission on the day you volunteer!\nVolunteer for two consecutive shifts and get a voucher for a delicious free meal!\n\nTrinity Middle School students can volunteer if accompanied by an adult volunteer.
URL:https://trinitymequon.org/event/freistadt-classic-2/
LOCATION:Trinity Lutheran Freistadt\, 10729 West Freistadt Road\, Mequon\, WI\, 53097\, United States
CATEGORIES:Trinity Events
ATTACH;FMTTYPE=image/png:https://trinitymequon.org/wp-content/uploads/2025/06/FC-26-Event-Feature-640x360px.png
ORGANIZER;CN="Josh Nimmer":MAILTO:jnimmer@trinityfreistadt.com
END:VEVENT
BEGIN:VEVENT
DTSTART;VALUE=DATE:20260206
DTEND;VALUE=DATE:20260207
DTSTAMP:20260420T023234
CREATED:20250605T200421Z
LAST-MODIFIED:20250605T211451Z
UID:10004887-1770336000-1770422399@trinitymequon.org
SUMMARY:12:00 pm Early Release
DESCRIPTION:Wrap Around Care is available
URL:https://trinitymequon.org/event/1200-pm-early-release/
LOCATION:Trinity Lutheran Freistadt\, 10729 West Freistadt Road\, Mequon\, WI\, 53097\, United States
CATEGORIES:Early Release,Trinity Events
ATTACH;FMTTYPE=image/png:https://trinitymequon.org/wp-content/uploads/2025/06/Early-Release-Feature-640x360-1.png
END:VEVENT
BEGIN:VEVENT
DTSTART;VALUE=DATE:20260209
DTEND;VALUE=DATE:20260210
DTSTAMP:20260420T023234
CREATED:20250605T200318Z
LAST-MODIFIED:20250605T211440Z
UID:10004886-1770595200-1770681599@trinitymequon.org
SUMMARY:No School
DESCRIPTION:Wrap Around Care is available
URL:https://trinitymequon.org/event/no-school-4/
LOCATION:Trinity Lutheran Freistadt\, 10729 West Freistadt Road\, Mequon\, WI\, 53097\, United States
CATEGORIES:No School,Trinity Events
ATTACH;FMTTYPE=image/png:https://trinitymequon.org/wp-content/uploads/2025/06/No-School-Feature-640x360-1.png
END:VEVENT
BEGIN:VEVENT
DTSTART;VALUE=DATE:20260210
DTEND;VALUE=DATE:20260224
DTSTAMP:20260420T023234
CREATED:20260210T133242Z
LAST-MODIFIED:20260210T133242Z
UID:10005609-1770681600-1771891199@trinitymequon.org
SUMMARY:Spiritwear Store
DESCRIPTION:
URL:https://trinitymequon.org/event/spiritwear-store/
LOCATION:Trinity Lutheran Freistadt\, 10729 West Freistadt Road\, Mequon\, WI\, 53097\, United States
CATEGORIES:Trinity Events
ATTACH;FMTTYPE=image/png:https://trinitymequon.org/wp-content/uploads/2024/09/Spiritwear-SHOP-HERE.png
ORGANIZER;CN="Josh Nimmer":MAILTO:jnimmer@trinityfreistadt.com
END:VEVENT
BEGIN:VEVENT
DTSTART;TZID=America/Chicago:20260218T163000
DTEND;TZID=America/Chicago:20260218T173000
DTSTAMP:20260420T023234
CREATED:20250605T200707Z
LAST-MODIFIED:20250605T200707Z
UID:10004890-1771432200-1771435800@trinitymequon.org
SUMMARY:Ash Wednesday Worship
DESCRIPTION:
URL:https://trinitymequon.org/event/ash-wednesday-worship/2026-02-18/1/
LOCATION:Trinity Lutheran Freistadt\, 10729 West Freistadt Road\, Mequon\, WI\, 53097\, United States
CATEGORIES:Trinity Events,Worship
ATTACH;FMTTYPE=image/png:https://trinitymequon.org/wp-content/uploads/2025/06/Ash-Wed-Worship-Feature-640-360.png
END:VEVENT
BEGIN:VEVENT
DTSTART;TZID=America/Chicago:20260218T171500
DTEND;TZID=America/Chicago:20260218T181500
DTSTAMP:20260420T023234
CREATED:20260128T144846Z
LAST-MODIFIED:20260213T164900Z
UID:10005606-1771434900-1771438500@trinitymequon.org
SUMMARY:Spaghetti Dinner
DESCRIPTION:Payment collected at the door.
URL:https://trinitymequon.org/event/spaghetti-dinner/
LOCATION:Trinity Lutheran Freistadt\, 10729 West Freistadt Road\, Mequon\, WI\, 53097\, United States
CATEGORIES:Trinity Events,Youth
ATTACH;FMTTYPE=image/png:https://trinitymequon.org/wp-content/uploads/2024/01/Ash-Wed-Dinner.png
ORGANIZER;CN="Youth Group":MAILTO:dreh@trinityfreistadt.com
END:VEVENT
BEGIN:VEVENT
DTSTART;TZID=America/Chicago:20260220T180000
DTEND;TZID=America/Chicago:20260220T200000
DTSTAMP:20260420T023234
CREATED:20250605T200508Z
LAST-MODIFIED:20250605T200508Z
UID:10004888-1771610400-1771617600@trinitymequon.org
SUMMARY:Baptism Confirmation Workshop - Option 1
DESCRIPTION:
URL:https://trinitymequon.org/event/baptism-confirmation-workshop-option-1/
LOCATION:Trinity Lutheran Freistadt\, 10729 West Freistadt Road\, Mequon\, WI\, 53097\, United States
CATEGORIES:Confirmation,Trinity Events
ATTACH;FMTTYPE=image/png:https://trinitymequon.org/wp-content/uploads/2025/06/Confirmation-Workshop-Feature-640x360-1.png
END:VEVENT
BEGIN:VEVENT
DTSTART;TZID=America/Chicago:20260221T080000
DTEND;TZID=America/Chicago:20260221T120000
DTSTAMP:20260420T023234
CREATED:20250605T200547Z
LAST-MODIFIED:20250605T200547Z
UID:10004889-1771660800-1771675200@trinitymequon.org
SUMMARY:Baptism Confirmation Workshop - Option 1
DESCRIPTION:
URL:https://trinitymequon.org/event/baptism-confirmation-workshop-option-1-2/
LOCATION:Trinity Lutheran Freistadt\, 10729 West Freistadt Road\, Mequon\, WI\, 53097\, United States
CATEGORIES:Confirmation,Trinity Events
ATTACH;FMTTYPE=image/png:https://trinitymequon.org/wp-content/uploads/2025/06/Confirmation-Workshop-Feature-640x360-1.png
END:VEVENT
BEGIN:VEVENT
DTSTART;TZID=America/Chicago:20260222T070000
DTEND;TZID=America/Chicago:20260222T103000
DTSTAMP:20260420T023234
CREATED:20251217T141001Z
LAST-MODIFIED:20251217T141001Z
UID:10005509-1771743600-1771756200@trinitymequon.org
SUMMARY:Historical Society Pancake Breakfast
DESCRIPTION:A pancake breakfast sponsored by the Historical Society. Includes all the trimmings.
URL:https://trinitymequon.org/event/historical-society-pancake-breakfast/
LOCATION:Trinity Lutheran Freistadt\, 10729 West Freistadt Road\, Mequon\, WI\, 53097\, United States
CATEGORIES:Historical Society,Trinity Events
ATTACH;FMTTYPE=image/png:https://trinitymequon.org/wp-content/uploads/2025/01/Pancake-Breakfast.png
ORGANIZER;CN="Freistadt Historical Society":MAILTO:historical@trinityfreistadt.com
END:VEVENT
END:VCALENDAR