BEGIN:VCALENDAR
VERSION:2.0
PRODID:-//Trinity Lutheran Church, School &amp; Childcare of Freistadt - ECPv6.15.20//NONSGML v1.0//EN
CALSCALE:GREGORIAN
METHOD:PUBLISH
X-ORIGINAL-URL:https://trinitymequon.org
X-WR-CALDESC:Events for Trinity Lutheran Church, School &amp; Childcare of Freistadt
REFRESH-INTERVAL;VALUE=DURATION:PT1H
X-Robots-Tag:noindex
X-PUBLISHED-TTL:PT1H
BEGIN:VTIMEZONE
TZID:America/Chicago
BEGIN:DAYLIGHT
TZOFFSETFROM:-0600
TZOFFSETTO:-0500
TZNAME:CDT
DTSTART:20240310T080000
END:DAYLIGHT
BEGIN:STANDARD
TZOFFSETFROM:-0500
TZOFFSETTO:-0600
TZNAME:CST
DTSTART:20241103T070000
END:STANDARD
BEGIN:DAYLIGHT
TZOFFSETFROM:-0600
TZOFFSETTO:-0500
TZNAME:CDT
DTSTART:20250309T080000
END:DAYLIGHT
BEGIN:STANDARD
TZOFFSETFROM:-0500
TZOFFSETTO:-0600
TZNAME:CST
DTSTART:20251102T070000
END:STANDARD
BEGIN:DAYLIGHT
TZOFFSETFROM:-0600
TZOFFSETTO:-0500
TZNAME:CDT
DTSTART:20260308T080000
END:DAYLIGHT
BEGIN:STANDARD
TZOFFSETFROM:-0500
TZOFFSETTO:-0600
TZNAME:CST
DTSTART:20261101T070000
END:STANDARD
END:VTIMEZONE
BEGIN:VEVENT
DTSTART;TZID=America/Chicago:20250803T080000
DTEND;TZID=America/Chicago:20250803T090000
DTSTAMP:20260423T155459
CREATED:20240711T185223Z
LAST-MODIFIED:20260410T204044Z
UID:10002965-1754208000-1754211600@trinitymequon.org
SUMMARY:Worship | Sunday 8:00 am
DESCRIPTION:
URL:https://trinitymequon.org/event/worship-sunday-800-am/2025-08-03/
LOCATION:Trinity Lutheran Freistadt\, 10729 West Freistadt Road\, Mequon\, WI\, 53097\, United States
CATEGORIES:Trinity Events,Worship
ATTACH;FMTTYPE=image/png:https://trinitymequon.org/wp-content/uploads/2025/06/Sanctuary-Worship-Feature-640-360.png
END:VEVENT
BEGIN:VEVENT
DTSTART;TZID=America/Chicago:20250802T170000
DTEND;TZID=America/Chicago:20250802T180000
DTSTAMP:20260423T155459
CREATED:20240711T184444Z
LAST-MODIFIED:20250605T212258Z
UID:10003179-1754154000-1754157600@trinitymequon.org
SUMMARY:Worship | Saturday 5:00 pm
DESCRIPTION:
URL:https://trinitymequon.org/event/worship-saturday-500-pm/2025-08-02/
LOCATION:Trinity Lutheran Freistadt\, 10729 West Freistadt Road\, Mequon\, WI\, 53097\, United States
CATEGORIES:Trinity Events,Worship
ATTACH;FMTTYPE=image/png:https://trinitymequon.org/wp-content/uploads/2025/06/Sanctuary-Worship-Feature-640-360.png
END:VEVENT
BEGIN:VEVENT
DTSTART;TZID=America/Chicago:20250802T070000
DTEND;TZID=America/Chicago:20250802T080000
DTSTAMP:20260423T155459
CREATED:20250605T173632Z
LAST-MODIFIED:20250905T210713Z
UID:10004476-1754118000-1754121600@trinitymequon.org
SUMMARY:Men's Bible Study
DESCRIPTION:Join our Saturday morning men’s group in their continued study of the scriptures. \nOur Saturday study is a relaxed\, no pressure group. No need to sign up – just show up!
URL:https://trinitymequon.org/event/mens-bible-study/2025-08-02/
LOCATION:Trinity Lutheran Freistadt\, 10729 West Freistadt Road\, Mequon\, WI\, 53097\, United States
CATEGORIES:Bible Study & Small Groups,Trinity Events
ATTACH;FMTTYPE=image/png:https://trinitymequon.org/wp-content/uploads/2025/06/Bible-Study-Feature-640x360-1.png
END:VEVENT
BEGIN:VEVENT
DTSTART;TZID=America/Chicago:20250729T073000
DTEND;TZID=America/Chicago:20250729T083000
DTSTAMP:20260423T155459
CREATED:20250605T180239Z
LAST-MODIFIED:20250905T205859Z
UID:10004593-1753774200-1753777800@trinitymequon.org
SUMMARY:Stuff They Didn't Teach You in Sunday School
DESCRIPTION:Ready to get behind the scenes on those great stories you heard as a kid but wondered about as an adult? Well\, wonder no longer. Fred has been leading this video-based study called “Stuff They Didn’t Teach Me in Sunday School” for several years now\, and the episodes just keep coming! Watch and listen as Bruce Wurdeman drives his way through Scripture and comes up with stuff even a Hebrew scholar would enjoy. \nEach week features a separate Bible story\, so even if you miss a week here and there\, you can jump in and out without feeling like you’re behind. Fred’s study is for both men and women and for all ages.
URL:https://trinitymequon.org/event/bible-study-2/2025-07-29/
LOCATION:Trinity Lutheran Freistadt\, 10729 West Freistadt Road\, Mequon\, WI\, 53097\, United States
CATEGORIES:Bible Study & Small Groups,Trinity Events
ATTACH;FMTTYPE=image/png:https://trinitymequon.org/wp-content/uploads/2025/06/Bible-Study-Feature-640x360-1.png
END:VEVENT
BEGIN:VEVENT
DTSTART;VALUE=DATE:20250727
DTEND;VALUE=DATE:20250728
DTSTAMP:20260423T155459
CREATED:20250725T132712Z
LAST-MODIFIED:20250725T132712Z
UID:10004999-1753574400-1753660799@trinitymequon.org
SUMMARY:Empanada Food Truck
DESCRIPTION:On Sunday morning\, July 27\, Trinity will be hosting a food truck with empanadas for sale after each service. The truck is operated by a local Living Word High School family who are contributing proceeds of the sale to support Michelle Gillard\, a missionary with Lutheran Bible Translators whose work benefits the people of Papua New Guinea. Michelle will be here with information about LBT\, and is also making plans to present to our school students this winter. \nWe look forward to a delicious way to support her efforts to bring the scriptures into multiple languages in Papua New Guinea. This is the first of two such food truck events we will have this summer\, with the second one on August 24 (but Michelle will only be able to visit on the 27th). \nToo early for fried food? You can also purchase a pack of six fresh empanadas to bake at home for $35.
URL:https://trinitymequon.org/event/empanada-food-truck/
LOCATION:Trinity Lutheran Freistadt\, 10729 West Freistadt Road\, Mequon\, WI\, 53097\, United States
CATEGORIES:Trinity Events
ATTACH;FMTTYPE=image/png:https://trinitymequon.org/wp-content/uploads/2025/07/Faith-in-Action-Feature-640x360-1.png
END:VEVENT
BEGIN:VEVENT
DTSTART;VALUE=DATE:20250721
DTEND;VALUE=DATE:20250726
DTSTAMP:20260423T155459
CREATED:20250509T133723Z
LAST-MODIFIED:20250625T204001Z
UID:10004345-1753056000-1753487999@trinitymequon.org
SUMMARY:Inspire Christian Learning Camp
DESCRIPTION:Learn More
URL:https://trinitymequon.org/event/inspire-christian-learning-stem-camp/
LOCATION:Trinity Lutheran Freistadt\, 10729 West Freistadt Road\, Mequon\, WI\, 53097\, United States
CATEGORIES:Trinity Events
ATTACH;FMTTYPE=image/png:https://trinitymequon.org/wp-content/uploads/2025/05/ICL-Feature.png
END:VEVENT
BEGIN:VEVENT
DTSTART;TZID=America/Chicago:20250716T180000
DTEND;TZID=America/Chicago:20250716T200000
DTSTAMP:20260423T155459
CREATED:20250605T174556Z
LAST-MODIFIED:20250605T174556Z
UID:10004573-1752688800-1752696000@trinitymequon.org
SUMMARY:Elders' Meeting
DESCRIPTION:
URL:https://trinitymequon.org/event/elders-meeting/2025-07-16/
LOCATION:Trinity Lutheran Freistadt\, 10729 West Freistadt Road\, Mequon\, WI\, 53097\, United States
CATEGORIES:Trinity Events
ATTACH;FMTTYPE=image/png:https://trinitymequon.org/wp-content/uploads/2025/06/Elders-Feature-640x360-1.png
END:VEVENT
BEGIN:VEVENT
DTSTART;TZID=America/Chicago:20250715T180000
DTEND;TZID=America/Chicago:20250715T210000
DTSTAMP:20260423T155459
CREATED:20250605T151133Z
LAST-MODIFIED:20250710T133857Z
UID:10004983-1752602400-1752613200@trinitymequon.org
SUMMARY:Board of Lay Leaders Meeting
DESCRIPTION:
URL:https://trinitymequon.org/event/board-of-lay-leaders-meeting/2025-07-15/
LOCATION:Trinity Lutheran Freistadt\, 10729 West Freistadt Road\, Mequon\, WI\, 53097\, United States
CATEGORIES:Trinity Events
ATTACH;FMTTYPE=image/png:https://trinitymequon.org/wp-content/uploads/2025/06/BLL-Feature-640x360-1.png
END:VEVENT
BEGIN:VEVENT
DTSTART;TZID=America/Chicago:20250603T073000
DTEND;TZID=America/Chicago:20250603T083000
DTSTAMP:20260423T155459
CREATED:20250605T174656Z
LAST-MODIFIED:20250605T174656Z
UID:10004584-1748935800-1748939400@trinitymequon.org
SUMMARY:Bible Study
DESCRIPTION:
URL:https://trinitymequon.org/event/bible-study/
LOCATION:Trinity Lutheran Freistadt\, 10729 West Freistadt Road\, Mequon\, WI\, 53097\, United States
CATEGORIES:Bible Study & Small Groups,Trinity Events
ATTACH;FMTTYPE=image/png:https://trinitymequon.org/wp-content/uploads/2025/06/Bible-Study-Feature-640x360-1.png
END:VEVENT
END:VCALENDAR