BEGIN:VCALENDAR
VERSION:2.0
PRODID:-//Trinity Lutheran Church, School &amp; Childcare of Freistadt - ECPv6.15.20//NONSGML v1.0//EN
CALSCALE:GREGORIAN
METHOD:PUBLISH
X-WR-CALNAME:Trinity Lutheran Church, School &amp; Childcare of Freistadt
X-ORIGINAL-URL:https://trinitymequon.org
X-WR-CALDESC:Events for Trinity Lutheran Church, School &amp; Childcare of Freistadt
REFRESH-INTERVAL;VALUE=DURATION:PT1H
X-Robots-Tag:noindex
X-PUBLISHED-TTL:PT1H
BEGIN:VTIMEZONE
TZID:America/Chicago
BEGIN:DAYLIGHT
TZOFFSETFROM:-0600
TZOFFSETTO:-0500
TZNAME:CDT
DTSTART:20250309T080000
END:DAYLIGHT
BEGIN:STANDARD
TZOFFSETFROM:-0500
TZOFFSETTO:-0600
TZNAME:CST
DTSTART:20251102T070000
END:STANDARD
BEGIN:DAYLIGHT
TZOFFSETFROM:-0600
TZOFFSETTO:-0500
TZNAME:CDT
DTSTART:20260308T080000
END:DAYLIGHT
BEGIN:STANDARD
TZOFFSETFROM:-0500
TZOFFSETTO:-0600
TZNAME:CST
DTSTART:20261101T070000
END:STANDARD
BEGIN:DAYLIGHT
TZOFFSETFROM:-0600
TZOFFSETTO:-0500
TZNAME:CDT
DTSTART:20270314T080000
END:DAYLIGHT
BEGIN:STANDARD
TZOFFSETFROM:-0500
TZOFFSETTO:-0600
TZNAME:CST
DTSTART:20271107T070000
END:STANDARD
END:VTIMEZONE
BEGIN:VEVENT
DTSTART;TZID=America/Chicago:20260531T080000
DTEND;TZID=America/Chicago:20260531T090000
DTSTAMP:20260425T100450
CREATED:20240711T185223Z
LAST-MODIFIED:20260410T204044Z
UID:10003008-1780214400-1780218000@trinitymequon.org
SUMMARY:Worship | Sunday 8:00 am
DESCRIPTION:
URL:https://trinitymequon.org/event/worship-sunday-800-am/2026-05-31/
LOCATION:Trinity Lutheran Freistadt\, 10729 West Freistadt Road\, Mequon\, WI\, 53097\, United States
CATEGORIES:Trinity Events,Worship
ATTACH;FMTTYPE=image/png:https://trinitymequon.org/wp-content/uploads/2025/06/Sanctuary-Worship-Feature-640-360.png
END:VEVENT
BEGIN:VEVENT
DTSTART;TZID=America/Chicago:20260531T100000
DTEND;TZID=America/Chicago:20260531T110000
DTSTAMP:20260425T100450
CREATED:20260410T203724Z
LAST-MODIFIED:20260410T203724Z
UID:10005651-1780221600-1780225200@trinitymequon.org
SUMMARY:Outdoor Worship
DESCRIPTION:There is something special about gathering under the open sky\, lifting our voices in praise\, and being surrounded by God’s beautiful creation. \nJoin us for Outdoor Worship this summer and make it a full Sunday experience of faith and fellowship! \n\nBring your lawn chairs\nPack a picnic lunch\nStay after worship and enjoy time together in community\n\nCome early\, settle in\, and stay awhile. This is more than a service\, it is a moment to slow down\, breathe deep\, and connect with God and one another. \nWe cannot wait to worship with you outdoors this summer!
URL:https://trinitymequon.org/event/outdoor-worship/2026-05-31/
LOCATION:Trinity Lutheran Freistadt\, 10729 West Freistadt Road\, Mequon\, WI\, 53097\, United States
CATEGORIES:Trinity Events,Worship
ATTACH;FMTTYPE=image/png:https://trinitymequon.org/wp-content/uploads/2025/06/Outdoor-Worship-Feature-640-360.png
END:VEVENT
BEGIN:VEVENT
DTSTART;TZID=America/Chicago:20260606T170000
DTEND;TZID=America/Chicago:20260606T180000
DTSTAMP:20260425T100450
CREATED:20240711T184444Z
LAST-MODIFIED:20250605T212258Z
UID:10003223-1780765200-1780768800@trinitymequon.org
SUMMARY:Worship | Saturday 5:00 pm
DESCRIPTION:
URL:https://trinitymequon.org/event/worship-saturday-500-pm/2026-06-06/
LOCATION:Trinity Lutheran Freistadt\, 10729 West Freistadt Road\, Mequon\, WI\, 53097\, United States
CATEGORIES:Trinity Events,Worship
ATTACH;FMTTYPE=image/png:https://trinitymequon.org/wp-content/uploads/2025/06/Sanctuary-Worship-Feature-640-360.png
END:VEVENT
END:VCALENDAR