BEGIN:VCALENDAR
VERSION:2.0
PRODID:-//Trinity Lutheran Church, School &amp; Childcare of Freistadt - ECPv6.15.20//NONSGML v1.0//EN
CALSCALE:GREGORIAN
METHOD:PUBLISH
X-ORIGINAL-URL:https://trinitymequon.org
X-WR-CALDESC:Events for Trinity Lutheran Church, School &amp; Childcare of Freistadt
REFRESH-INTERVAL;VALUE=DURATION:PT1H
X-Robots-Tag:noindex
X-PUBLISHED-TTL:PT1H
BEGIN:VTIMEZONE
TZID:America/Chicago
BEGIN:DAYLIGHT
TZOFFSETFROM:-0600
TZOFFSETTO:-0500
TZNAME:CDT
DTSTART:20250309T080000
END:DAYLIGHT
BEGIN:STANDARD
TZOFFSETFROM:-0500
TZOFFSETTO:-0600
TZNAME:CST
DTSTART:20251102T070000
END:STANDARD
BEGIN:DAYLIGHT
TZOFFSETFROM:-0600
TZOFFSETTO:-0500
TZNAME:CDT
DTSTART:20260308T080000
END:DAYLIGHT
BEGIN:STANDARD
TZOFFSETFROM:-0500
TZOFFSETTO:-0600
TZNAME:CST
DTSTART:20261101T070000
END:STANDARD
BEGIN:DAYLIGHT
TZOFFSETFROM:-0600
TZOFFSETTO:-0500
TZNAME:CDT
DTSTART:20270314T080000
END:DAYLIGHT
BEGIN:STANDARD
TZOFFSETFROM:-0500
TZOFFSETTO:-0600
TZNAME:CST
DTSTART:20271107T070000
END:STANDARD
END:VTIMEZONE
BEGIN:VEVENT
DTSTART;TZID=America/Chicago:20260329T080000
DTEND;TZID=America/Chicago:20260329T090000
DTSTAMP:20260424T045545
CREATED:20240711T185223Z
LAST-MODIFIED:20260410T204044Z
UID:10002999-1774771200-1774774800@trinitymequon.org
SUMMARY:Worship | Sunday 8:00 am
DESCRIPTION:
URL:https://trinitymequon.org/event/worship-sunday-800-am/2026-03-29/
LOCATION:Trinity Lutheran Freistadt\, 10729 West Freistadt Road\, Mequon\, WI\, 53097\, United States
CATEGORIES:Trinity Events,Worship
ATTACH;FMTTYPE=image/png:https://trinitymequon.org/wp-content/uploads/2025/06/Sanctuary-Worship-Feature-640-360.png
END:VEVENT
BEGIN:VEVENT
DTSTART;TZID=America/Chicago:20260329T104500
DTEND;TZID=America/Chicago:20260329T114500
DTSTAMP:20260424T045545
CREATED:20250605T150010Z
LAST-MODIFIED:20250605T183203Z
UID:10004456-1774781100-1774784700@trinitymequon.org
SUMMARY:Worship | Sunday 10:45 am
DESCRIPTION:
URL:https://trinitymequon.org/event/worship-sunday-1045-am/2026-03-29/
LOCATION:Trinity Lutheran Freistadt\, 10729 West Freistadt Road\, Mequon\, WI\, 53097\, United States
CATEGORIES:Trinity Events,Worship
ATTACH;FMTTYPE=image/png:https://trinitymequon.org/wp-content/uploads/2025/06/Sanctuary-Worship-Feature-640-360.png
END:VEVENT
BEGIN:VEVENT
DTSTART;TZID=America/Chicago:20260402T163000
DTEND;TZID=America/Chicago:20260402T173000
DTSTAMP:20260424T045545
CREATED:20250605T201513Z
LAST-MODIFIED:20250605T201513Z
UID:10004899-1775147400-1775151000@trinitymequon.org
SUMMARY:Maundy Thursday Worship
DESCRIPTION:
URL:https://trinitymequon.org/event/maundy-thursday-worship/2026-04-02/1/
LOCATION:Trinity Lutheran Freistadt\, 10729 West Freistadt Road\, Mequon\, WI\, 53097\, United States
CATEGORIES:Trinity Events,Worship
ATTACH;FMTTYPE=image/png:https://trinitymequon.org/wp-content/uploads/2025/06/Maundy-Thursday-Worship-Feature-640-360.png
END:VEVENT
BEGIN:VEVENT
DTSTART;TZID=America/Chicago:20260402T183000
DTEND;TZID=America/Chicago:20260402T193000
DTSTAMP:20260424T045545
CREATED:20250605T201513Z
LAST-MODIFIED:20250605T201513Z
UID:10004900-1775154600-1775158200@trinitymequon.org
SUMMARY:Maundy Thursday Worship
DESCRIPTION:
URL:https://trinitymequon.org/event/maundy-thursday-worship/2026-04-02/2/
LOCATION:Trinity Lutheran Freistadt\, 10729 West Freistadt Road\, Mequon\, WI\, 53097\, United States
CATEGORIES:Trinity Events,Worship
ATTACH;FMTTYPE=image/png:https://trinitymequon.org/wp-content/uploads/2025/06/Maundy-Thursday-Worship-Feature-640-360.png
END:VEVENT
BEGIN:VEVENT
DTSTART;TZID=America/Chicago:20260403T120000
DTEND;TZID=America/Chicago:20260403T130000
DTSTAMP:20260424T045545
CREATED:20250605T201738Z
LAST-MODIFIED:20250605T201738Z
UID:10004901-1775217600-1775221200@trinitymequon.org
SUMMARY:Good Friday Worship
DESCRIPTION:
URL:https://trinitymequon.org/event/good-friday-worship/2026-04-03/1/
LOCATION:Trinity Lutheran Freistadt\, 10729 West Freistadt Road\, Mequon\, WI\, 53097\, United States
CATEGORIES:Trinity Events,Worship
ATTACH;FMTTYPE=image/png:https://trinitymequon.org/wp-content/uploads/2025/06/Good-Friday-Worship-Feature-640-360.png
END:VEVENT
BEGIN:VEVENT
DTSTART;TZID=America/Chicago:20260403T183000
DTEND;TZID=America/Chicago:20260403T193000
DTSTAMP:20260424T045545
CREATED:20250605T201738Z
LAST-MODIFIED:20250605T201738Z
UID:10004902-1775241000-1775244600@trinitymequon.org
SUMMARY:Good Friday Worship
DESCRIPTION:
URL:https://trinitymequon.org/event/good-friday-worship/2026-04-03/2/
LOCATION:Trinity Lutheran Freistadt\, 10729 West Freistadt Road\, Mequon\, WI\, 53097\, United States
CATEGORIES:Trinity Events,Worship
ATTACH;FMTTYPE=image/png:https://trinitymequon.org/wp-content/uploads/2025/06/Good-Friday-Worship-Feature-640-360.png
END:VEVENT
END:VCALENDAR