BEGIN:VCALENDAR
VERSION:2.0
PRODID:-//Trinity Lutheran Church, School &amp; Childcare of Freistadt - ECPv6.15.20//NONSGML v1.0//EN
CALSCALE:GREGORIAN
METHOD:PUBLISH
X-ORIGINAL-URL:https://trinitymequon.org
X-WR-CALDESC:Events for Trinity Lutheran Church, School &amp; Childcare of Freistadt
REFRESH-INTERVAL;VALUE=DURATION:PT1H
X-Robots-Tag:noindex
X-PUBLISHED-TTL:PT1H
BEGIN:VTIMEZONE
TZID:America/Chicago
BEGIN:DAYLIGHT
TZOFFSETFROM:-0600
TZOFFSETTO:-0500
TZNAME:CDT
DTSTART:20250309T080000
END:DAYLIGHT
BEGIN:STANDARD
TZOFFSETFROM:-0500
TZOFFSETTO:-0600
TZNAME:CST
DTSTART:20251102T070000
END:STANDARD
BEGIN:DAYLIGHT
TZOFFSETFROM:-0600
TZOFFSETTO:-0500
TZNAME:CDT
DTSTART:20260308T080000
END:DAYLIGHT
BEGIN:STANDARD
TZOFFSETFROM:-0500
TZOFFSETTO:-0600
TZNAME:CST
DTSTART:20261101T070000
END:STANDARD
BEGIN:DAYLIGHT
TZOFFSETFROM:-0600
TZOFFSETTO:-0500
TZNAME:CDT
DTSTART:20270314T080000
END:DAYLIGHT
BEGIN:STANDARD
TZOFFSETFROM:-0500
TZOFFSETTO:-0600
TZNAME:CST
DTSTART:20271107T070000
END:STANDARD
END:VTIMEZONE
BEGIN:VEVENT
DTSTART;TZID=America/Chicago:20260316T190000
DTEND;TZID=America/Chicago:20260316T210000
DTSTAMP:20260425T145330
CREATED:20251031T185604Z
LAST-MODIFIED:20251031T185604Z
UID:10005224-1773687600-1773694800@trinitymequon.org
SUMMARY:Historical Society Meeting
DESCRIPTION:
URL:https://trinitymequon.org/event/historical-society-meeting/2026-03-16/
LOCATION:Trinity Lutheran Freistadt\, 10729 West Freistadt Road\, Mequon\, WI\, 53097\, United States
CATEGORIES:Historical Society,Trinity Events
ATTACH;FMTTYPE=image/png:https://trinitymequon.org/wp-content/uploads/2025/06/Historical-Society-Feature-640x360-1.png
END:VEVENT
BEGIN:VEVENT
DTSTART;TZID=America/Chicago:20260325T170000
DTEND;TZID=America/Chicago:20260325T203000
DTSTAMP:20260425T145330
CREATED:20260220T194246Z
LAST-MODIFIED:20260220T201516Z
UID:10005612-1774458000-1774470600@trinitymequon.org
SUMMARY:Church Music Bingo
DESCRIPTION:You are invited to stay after the 4:30 Lenten Service on March 25 for a simple meal of pizza\, salad and drinks\, then play “Church Music Bingo”. Instead of calling numbers\, Becky will play well known hymns and praise songs during the games. Prizes for the winners! No charge for the meal or bingo\, but you will have have the opportunity to make a free will donation to the Exhibition Barn fund planned at the Historic Site.
URL:https://trinitymequon.org/event/church-music-bingo/
LOCATION:Trinity Lutheran Freistadt\, 10729 West Freistadt Road\, Mequon\, WI\, 53097\, United States
CATEGORIES:Historical Society,Trinity Events
ATTACH;FMTTYPE=image/png:https://trinitymequon.org/wp-content/uploads/2026/02/Bingo-1.png
ORGANIZER;CN="Freistadt Historical Society":MAILTO:historical@trinityfreistadt.com
END:VEVENT
END:VCALENDAR